BEGIN:VCALENDAR
VERSION:2.0
PRODID:-//ChamberMaster//Event Calendar 2.0//EN
METHOD:PUBLISH
X-PUBLISHED-TTL:P3D
REFRESH-INTERVAL:P3D
CALSCALE:GREGORIAN
BEGIN:VEVENT
DTSTART:20250611T013000Z
DTEND:20250611T023000Z
X-MICROSOFT-CDO-ALLDAYEVENT:FALSE
SUMMARY:Understanding Credit Reports & Scores
DESCRIPTION:Find essential tips for working toward your financial health goals
X-ALT-DESC;FMTTYPE=text/html:Find essential tips for working toward your financial health goals
LOCATION:BECU's White Center Neighborhood Financial Center (1515 SW 107th St Suite 100)
UID:e.2591.7450
SEQUENCE:3
DTSTAMP:20260425T133705Z
URL:https://seattlesouthsidechamber.com/events/details/understanding-credit-reports-scores-7450
END:VEVENT

END:VCALENDAR
