BEGIN:VCALENDAR
VERSION:2.0
PRODID:-//ChamberMaster//Event Calendar 2.0//EN
METHOD:PUBLISH
X-PUBLISHED-TTL:P3D
REFRESH-INTERVAL:P3D
CALSCALE:GREGORIAN
BEGIN:VEVENT
DTSTART:20170218T210000Z
DTEND:20170219T000000Z
X-MICROSOFT-CDO-ALLDAYEVENT:FALSE
SUMMARY:Youth Employment\, Education\, and Career Fair
DESCRIPTION:WorkSource\, in partnership with King County\, Seattle Goodwill\, and the YMCA\, is pleased to announce the Feb 21 Youth Employment\, Education\, and Career Fair. \n\n\n\nYOUTH EMPLOYMENT\, EDUCATION\, and CAREER FAIR\n\nWhen: Tuesday\, February 21\, 2017\, 1pm-4pm\n\nWhere: Seattle Goodwill\, 700 Dearborn Place S.\, Seattle\, WA 98144\n\nTarget Audience: Young Adults ages 16-24\, though\, as always\, our events are open to the public\n\n \n\nWhat can you expect? A hand selected assortment of 40 employers\, educators and resources.  Workshops and prizes!\n\n \n\nParticipating Employers\n\nAirport Jobs\n\nAlaska Airlines\n\nAmazon  \n\nAuntie Anne's Pretzels\n\nBurger King\n\nFedEx  \n\nHilton  \n\nJamba Juice\n\nJC Penney\n\nKaman Art Shoppe\n\nMOD Pizza\n\nMuseum of Pop/EMP \n\nNordstrom \n\nNorthwest Industrial Staffing\n\nPCC Market\n\nPort of Seattle\n\nPrologistix\n\nSafeway & Albertsons\n\nSpace Needle & Chihuly Garden Glass\n\nStarbucks\n\nThe Gap\n\nThe Seattle Goodwill\n\nThe Seattle Mariners\n\nThe Seattle Police Department\n\nYMCA\n\n \n\nParticipating Education\, Career & Resource Providers\n\nAJAC\n\nANEW\n\nEscape to Peach\n\nFareStart\n\nJob Corps\n\nJUMA\n\nNational Guard\n\nOrion\n\nReconnect to Opportunity\n\nRenton Technical College\n\nSeattle Central College\n\nSouth Seattle College\n\nTeam Child\n\nWorkSource\n\nYear-Up
X-ALT-DESC;FMTTYPE=text/html:<span style="font-family:calibri\,sans-serif\;"><span style="font-size:11.0pt\;">WorkSource\, in partnership with King County\, Seattle Goodwill\, and the YMCA\, is pleased to announce the Feb 21 <strong><em><u>Youth Employment\, Education\, and Career Fair</u></em></strong>.&nbsp\;</span></span><br />\n<br />\n<strong><em><u><span style="color:#1F497D\;"><span style="font-family:tahoma\,sans-serif\;"><span style="font-size:16.0pt\;">YOUTH EMPLOYMENT\, EDUCATION\, and CAREER FAIR</span></span></span></u></em></strong><br />\n<span style="color:black\;"><span style="font-family:tahoma\,sans-serif\;">When: </span></span><strong><span style="color:#1F497D\;"><span style="font-family:tahoma\,sans-serif\;">Tuesday\, </span></span></strong><strong><span style="color:black\;"><span style="font-family:tahoma\,sans-serif\;">February 21</span></span></strong><strong><span style="color:#1F497D\;"><span style="font-family:tahoma\,sans-serif\;">\, </span></span></strong><strong><span style="font-family:tahoma\,sans-serif\;">2017<span style="color:#1F497D\;">\,</span><span style="color:black\;"> 1pm-4pm</span></span></strong><br />\n<span style="color:black\;"><span style="font-family:tahoma\,sans-serif\;">Where:<strong> Seattle Goodwill</strong></span></span><strong><span style="color:#1F497D\;"><span style="font-family:tahoma\,sans-serif\;">\, </span></span></strong><strong><span style="color:black\;"><span style="font-family:tahoma\,sans-serif\;">700 Dearborn </span></span></strong><strong><span style="font-family:tahoma\,sans-serif\;">Place<span style="color:black\;"> S.</span><span style="color:#1F497D\;">\,</span><span style="color:black\;"> Seattle\, WA 98144</span></span></strong><br />\n<span style="color:black\;"><span style="font-family:tahoma\,sans-serif\;">Target Audience:<strong> Young Adults ages 16-24</strong></span></span><strong><span style="color:#1F497D\;"><span style="font-family:tahoma\,sans-serif\;">\, </span></span></strong><strong><span style="color:black\;"><span style="font-family:tahoma\,sans-serif\;">though\, as always\, our events </span></span></strong><strong><span style="color:#1F497D\;"><span style="font-family:tahoma\,sans-serif\;">are </span></span></strong><strong><span style="color:black\;"><span style="font-family:tahoma\,sans-serif\;">open to the public</span></span></strong><br />\n&nbsp\;<br />\n<strong><span style="color:black\;"><span style="font-family:tahoma\,sans-serif\;">What can you expect? A hand selected assortment of 40 employers\, educators and resources. &nbsp\;Workshops and prizes!</span></span></strong><br />\n&nbsp\;<br />\n<strong><u><span style="background:yellow\;"><span style="color:black\;"><span style="font-family:tahoma\,sans-serif\;">Participating Employers</span></span></span></u></strong><br />\n<strong><span style="color:#1F497D\;"><span style="font-family:tahoma\,sans-serif\;">Airport Jobs</span></span></strong><br />\n<strong><span style="color:#1F497D\;"><span style="font-family:tahoma\,sans-serif\;">Alaska Airlines</span></span></strong><br />\n<strong><span style="color:#1F497D\;"><span style="font-family:tahoma\,sans-serif\;">Amazon &nbsp\;</span></span></strong><br />\n<strong><span style="color:#1F497D\;"><span style="font-family:tahoma\,sans-serif\;">Auntie Anne&#39\;s Pretzels</span></span></strong><br />\n<strong><span style="color:#1F497D\;"><span style="font-family:tahoma\,sans-serif\;">Burger King</span></span></strong><br />\n<strong><span style="color:#1F497D\;"><span style="font-family:tahoma\,sans-serif\;">FedEx &nbsp\;</span></span></strong><br />\n<strong><span style="color:#1F497D\;"><span style="font-family:tahoma\,sans-serif\;">Hilton &nbsp\;</span></span></strong><br />\n<strong><span style="color:#1F497D\;"><span style="font-family:tahoma\,sans-serif\;">Jamba Juice</span></span></strong><br />\n<strong><span style="color:#1F497D\;"><span style="font-family:tahoma\,sans-serif\;">JC Penney</span></span></strong><br />\n<strong><span style="color:#1F497D\;"><span style="font-family:tahoma\,sans-serif\;">Kaman Art Shoppe</span></span></strong><br />\n<strong><span style="color:#1F497D\;"><span style="font-family:tahoma\,sans-serif\;">MOD Pizza</span></span></strong><br />\n<strong><span style="color:#1F497D\;"><span style="font-family:tahoma\,sans-serif\;">Museum of Pop/EMP&nbsp\;</span></span></strong><br />\n<strong><span style="color:#1F497D\;"><span style="font-family:tahoma\,sans-serif\;">Nordstrom&nbsp\;</span></span></strong><br />\n<strong><span style="color:#1F497D\;"><span style="font-family:tahoma\,sans-serif\;">Northwest Industrial Staffing</span></span></strong><br />\n<strong><span style="color:#1F497D\;"><span style="font-family:tahoma\,sans-serif\;">PCC Market</span></span></strong><br />\n<strong><span style="color:#1F497D\;"><span style="font-family:tahoma\,sans-serif\;">Port of Seattle</span></span></strong><br />\n<strong><span style="color:#1F497D\;"><span style="font-family:tahoma\,sans-serif\;">Prologistix</span></span></strong><br />\n<strong><span style="color:#1F497D\;"><span style="font-family:tahoma\,sans-serif\;">Safeway &amp\; Albertsons</span></span></strong><br />\n<strong><span style="color:#1F497D\;"><span style="font-family:tahoma\,sans-serif\;">Space Needle &amp\; Chihuly Garden Glass</span></span></strong><br />\n<strong><span style="color:#1F497D\;"><span style="font-family:tahoma\,sans-serif\;">Starbucks</span></span></strong><br />\n<strong><span style="color:#1F497D\;"><span style="font-family:tahoma\,sans-serif\;">The Gap</span></span></strong><br />\n<strong><span style="color:#1F497D\;"><span style="font-family:tahoma\,sans-serif\;">The Seattle Goodwill</span></span></strong><br />\n<strong><span style="color:#1F497D\;"><span style="font-family:tahoma\,sans-serif\;">The Seattle Mariners</span></span></strong><br />\n<strong><span style="color:#1F497D\;"><span style="font-family:tahoma\,sans-serif\;">The Seattle Police Department</span></span></strong><br />\n<strong><span style="color:#1F497D\;"><span style="font-family:tahoma\,sans-serif\;">YMCA</span></span></strong><br />\n&nbsp\;<br />\n<strong><u><span style="background:yellow\;"><span style="font-family:tahoma\,sans-serif\;">Participating Education\, Career &amp\; Resource Providers</span></span></u></strong><br />\n<strong><span style="color:#1F497D\;"><span style="font-family:tahoma\,sans-serif\;">AJAC</span></span></strong><br />\n<strong><span style="color:#1F497D\;"><span style="font-family:tahoma\,sans-serif\;">ANEW</span></span></strong><br />\n<strong><span style="color:#1F497D\;"><span style="font-family:tahoma\,sans-serif\;">Escape to Peach</span></span></strong><br />\n<strong><span style="color:#1F497D\;"><span style="font-family:tahoma\,sans-serif\;">FareStart</span></span></strong><br />\n<strong><span style="color:#1F497D\;"><span style="font-family:tahoma\,sans-serif\;">Job Corps</span></span></strong><br />\n<strong><span style="color:#1F497D\;"><span style="font-family:tahoma\,sans-serif\;">JUMA</span></span></strong><br />\n<strong><span style="color:#1F497D\;"><span style="font-family:tahoma\,sans-serif\;">National Guard</span></span></strong><br />\n<strong><span style="color:#1F497D\;"><span style="font-family:tahoma\,sans-serif\;">Orion</span></span></strong><br />\n<strong><span style="color:#1F497D\;"><span style="font-family:tahoma\,sans-serif\;">Reconnect to Opportunity</span></span></strong><br />\n<strong><span style="color:#1F497D\;"><span style="font-family:tahoma\,sans-serif\;">Renton Technical College</span></span></strong><br />\n<strong><span style="color:#1F497D\;"><span style="font-family:tahoma\,sans-serif\;">Seattle Central College</span></span></strong><br />\n<strong><span style="color:#1F497D\;"><span style="font-family:tahoma\,sans-serif\;">South Seattle College</span></span></strong><br />\n<strong><span style="color:#1F497D\;"><span style="font-family:tahoma\,sans-serif\;">Team Child</span></span></strong><br />\n<strong><span style="color:#1F497D\;"><span style="font-family:tahoma\,sans-serif\;">WorkSource</span></span></strong><br />\n<strong><span style="color:#1F497D\;"><span style="font-family:tahoma\,sans-serif\;">Year-Up</span></span></strong>&nbsp\;<br />\n&nbsp\;
LOCATION:Seattle Goodwill\, 700 Dearborn Place S.\, Seattle\, WA 98144
UID:e.2591.608
SEQUENCE:3
DTSTAMP:20260426T041822Z
URL:http://seattlesouthsidechamber.com/events/details/youth-employment-education-and-career-fair-608
END:VEVENT

END:VCALENDAR
