BEGIN:VCALENDAR
VERSION:2.0
PRODID:-//ChamberMaster//Event Calendar 2.0//EN
METHOD:PUBLISH
X-PUBLISHED-TTL:P3D
REFRESH-INTERVAL:P3D
CALSCALE:GREGORIAN
BEGIN:VEVENT
DTSTART:20180919T180000Z
DTEND:20180919T210000Z
X-MICROSOFT-CDO-ALLDAYEVENT:FALSE
SUMMARY:WoodSpring Suites Tukwila Ribbon Cutting
DESCRIPTION:WoodSpring Ribbon Cutting\nThe agenda for the day will be 11:30am Ribbon Cutting followed by a catered lunch and tours of the hotel and rooms. They will also be holding a drawing for prizes and have giveaways
X-ALT-DESC;FMTTYPE=text/html:<h3 style="box-sizing: border-box\; margin: 0px\; padding: 0px\; font-family: Roboto\, sans-serif\; font-weight: 700\; color: rgb(77\, 77\, 77)\; text-rendering: optimizeLegibility\; font-size: 1.25rem\; border: 0px\; border-radius: 0px\; background-image: none\; background-position: initial\; background-size: initial\; background-repeat: initial\; background-attachment: initial\; background-origin: initial\; background-clip: initial\;">WoodSpring&nbsp\;Ribbon Cutting</h3>\n<span style="color: rgb(77\, 77\, 77)\; font-family: Neuton\, sans-serif\; font-size: 15px\; letter-spacing: 0.16px\;">The agenda for the day will be 11:30am Ribbon Cutting followed by a catered lunch and tours of the hotel and rooms. They will also be holding a drawing for prizes and have giveaways</span>
LOCATION:15643 West Valley Highway\, Tukwila\, WA 98188
UID:e.2591.2507
SEQUENCE:3
DTSTAMP:20260424T220804Z
URL:http://seattlesouthsidechamber.com/events/details/woodspring-suites-tukwila-ribbon-cutting-2507
END:VEVENT

END:VCALENDAR
