BEGIN:VCALENDAR
VERSION:2.0
PRODID:-//ChamberMaster//Event Calendar 2.0//EN
METHOD:PUBLISH
X-PUBLISHED-TTL:P3D
REFRESH-INTERVAL:P3D
CALSCALE:GREGORIAN
BEGIN:VEVENT
DTSTART:20180330T170000Z
DTEND:20180330T210000Z
X-MICROSOFT-CDO-ALLDAYEVENT:FALSE
SUMMARY:Women's Career Empowerment
DESCRIPTION:Close out Women's History Month with Seattle Southside Chamber of Commerce\, KD Hall Foundation & University of Phoenix. There will be inspirational and thought-provoking panelists and workshops to help you add tools to your corporate tool belt as well as a proclamation from the Mayor of Tukwila Allan Ekberg. \n\n\n\nIn celebration of women\, this conference is FREE. There is limited seating available!\n\n\n\nLunch is being provided by Act3 Catering\, Kona Kai Coffee\, and Panera Bread\n\n\n\nWorkshops:\n\nInterview Tips with Zenovia Harris\n\nLinkedIn & Social Media with Kim Vu & Bruce Williams\n\nPersonal Finance with Esther Richmond\n\nResume Reviews with University of Phoenix Faculty\n\n\n\nPanelists:\n\nGodwin Gabriel - CEO/Mastermind\, Moovn (Seattle's 3rd Rideshare option)\n\n Satwinder Kaur - Kent City Councilmember\n\nDiane Penoyer - Director of HR \, Mattress Firm\, Inc.\n\nAndrea Reay - President/CEO\, Seattle Southside Chamber\n\nChristina Sciabarra - Women's Initiative Director\, Bellevue College\n\nKathrina Westby - Director of operations\, Overlake Hospital\n\n\n\nVendors:\n\nCustom Pressed Tees\n\nKona Kai Coffee\n\nNew York Life Insurance Company\n\nPanera Bread\n\nProFitness\, Burien\n\n Redefining You Foundation\n\nWells Fargo
X-ALT-DESC;FMTTYPE=text/html:<p><span style="font-size: 16px\; font-family: arial\;">Close out Women&rsquo\;s History Month with Seattle Southside Chamber of Commerce\, KD Hall Foundation &amp\; University of Phoenix. There will be inspirational and thought-provoking panelists and workshops to help you add tools to your corporate tool belt as well as a proclamation from the Mayor of Tukwila Allan Ekberg</span>.&nbsp\;<br />\n<br />\n<span style="font-size:16px\;"><span style="font-family:arial\;">In celebration of women\, this conference is FREE. There is limited seating available!<br />\n<br />\nLunch is being provided by Act3 Catering\, Kona Kai Coffee\, and Panera Bread<br style="color: rgb(75\, 79\, 86)\; font-family: Helvetica\, Arial\, sans-serif\; font-size: 14px\;" />\n<br />\n<span style="color: rgb(75\, 79\, 86)\;"><strong>Workshops:</strong></span><br style="color: rgb(75\, 79\, 86)\; font-family: Helvetica\, Arial\, sans-serif\; font-size: 14px\;" />\n<span style="color: rgb(75\, 79\, 86)\;">Interview Tips with Zenovia Harris</span><br style="color: rgb(75\, 79\, 86)\; font-family: Helvetica\, Arial\, sans-serif\; font-size: 14px\;" />\n<span style="color: rgb(75\, 79\, 86)\;">LinkedIn &amp\; Social Media with Kim Vu &amp\; Bruce Williams</span><br style="color: rgb(75\, 79\, 86)\; font-family: Helvetica\, Arial\, sans-serif\; font-size: 14px\;" />\n<font color="#4b4f56">Personal Finance with Esther Richmond<br />\nResume Reviews with University of Phoenix Faculty</font><br />\n<br />\n<strong>Panelists:</strong><br />\nGodwin Gabriel - CEO/Mastermind\, Moovn (Seattle&rsquo\;s 3rd Rideshare option)<br />\n&#8203\;Satwinder&nbsp\;Kaur&nbsp\;-&nbsp\;Kent City&nbsp\;Councilmember<br />\nDiane Penoyer&nbsp\;- Director of HR \, Mattress Firm\, Inc.<br />\nAndrea&nbsp\;Reay&nbsp\;-&nbsp\;President/CEO\,&nbsp\;Seattle Southside Chamber<br />\nChristina Sciabarra - Women&rsquo\;s Initiative Director\,&nbsp\;Bellevue College<br />\nKathrina&nbsp\;Westby&nbsp\;-&nbsp\;Director of operations\,&nbsp\;Overlake&nbsp\;Hospital<br />\n<br />\n<strong>Vendors:</strong><br />\nCustom Pressed Tees<br />\nKona Kai Coffee<br />\nNew York Life Insurance Company<br />\nPanera&nbsp\;Bread<br />\nProFitness\, Burien<br />\n&#8203\;Redefining You Foundation<br />\nWells Fargo</span></span></p>\n
LOCATION:University of Phoenix 7100 Ft. Dent Way STE 100 Tukwila\, WA 98188
UID:e.2591.1063
SEQUENCE:3
DTSTAMP:20260425T033104Z
URL:http://seattlesouthsidechamber.com/events/details/women-s-career-empowerment-1063
END:VEVENT

END:VCALENDAR
