BEGIN:VCALENDAR
VERSION:2.0
PRODID:-//ChamberMaster//Event Calendar 2.0//EN
METHOD:PUBLISH
X-PUBLISHED-TTL:P3D
REFRESH-INTERVAL:P3D
CALSCALE:GREGORIAN
BEGIN:VEVENT
DTSTART:20181030T190000Z
DTEND:20181030T213000Z
X-MICROSOFT-CDO-ALLDAYEVENT:FALSE
SUMMARY:Women in Business & Leadership Initiatives Fall Symposium
DESCRIPTION:How I Did It   the fall symposium will focus on how executive level women have navigated the workplace in order to become a high-level leader. We'll connect with and hear from amazing speakers about their stories on navigating perceptions\, changing the narrative\, and learning how you can drive positive change in your own career.\n\nOur President and CEO\, Marilyn Strickland\, leads a panel discussion exploring the strategies that women have used to reach the highest levels of their organizations.
X-ALT-DESC;FMTTYPE=text/html:<p style="margin: 7.5pt 22.5pt\; line-height: 15pt\;">How I Did It &ndash\; the fall symposium will focus on how executive level women have navigated the workplace in order to become a high-level leader. We&#39\;ll connect with and hear from amazing speakers about their stories on navigating perceptions\, changing the narrative\, and learning how you can drive positive change in your own career.</p>\n\n<p style="margin: 7.5pt 22.5pt\; line-height: 15pt\;">Our President and CEO\, Marilyn Strickland\, leads a panel discussion exploring the strategies that women have used to reach the highest levels of their organizations.</p>\n
LOCATION:Seattle Marriott Waterfront 2100 Alaskan Way\, Seattle\, 98121\, WA
UID:e.2591.2556
SEQUENCE:3
DTSTAMP:20260424T185657Z
URL:http://seattlesouthsidechamber.com/events/details/women-in-business-leadership-initiatives-fall-symposium-2556
END:VEVENT

END:VCALENDAR
