BEGIN:VCALENDAR
VERSION:2.0
PRODID:-//ChamberMaster//Event Calendar 2.0//EN
METHOD:PUBLISH
X-PUBLISHED-TTL:P3D
REFRESH-INTERVAL:P3D
CALSCALE:GREGORIAN
BEGIN:VEVENT
DTSTART:20190213T200000Z
DTEND:20190213T223000Z
X-MICROSOFT-CDO-ALLDAYEVENT:FALSE
SUMMARY:Women in Business & Leadership Initiative - Winter Symposium 2019 Women Doing the Unexpected
DESCRIPTION:Listen and learn from a phenomenal group of women who are doing the unexpected. They will share how they have achieved success in traditionally male-dominated industries like maritime\, construction\, architecture\, and media.\n\nSpend your afternoon with our speakers to learn:\n\n\n	How they chose to work in a male-dominated field\n	Obstacles they faced along the way and how they overcame them\n	How they set themselves apart
X-ALT-DESC;FMTTYPE=text/html:<p 0px="" color:="" font-size:="" margin:="" sans="" source="">Listen and learn from a phenomenal group of women who are doing the unexpected.&nbsp\;They will&nbsp\;share how they have&nbsp\;achieved success in traditionally male-dominated industries like maritime\, construction\, architecture\, and media.</p>\n\n<p 0px="" color:="" font-size:="" margin:="" sans="" source="">Spend your afternoon with our speakers to learn:</p>\n\n<ul font-size:="" sans="" source="" type="disc">\n	<li>How they chose to work in a male-dominated field</li>\n	<li>Obstacles they faced along the way and how they overcame them</li>\n	<li>How they set themselves apart</li>\n</ul>\n
LOCATION:Columbia Tower Club\, 75th Floor 701 5th Avenue\, Seattle\, WA\, 98104
UID:e.2591.2807
SEQUENCE:3
DTSTAMP:20260424T095141Z
URL:http://seattlesouthsidechamber.com/events/details/women-in-business-leadership-initiative-winter-symposium-2019-women-doing-the-unexpected-2807
END:VEVENT

END:VCALENDAR
