BEGIN:VCALENDAR
VERSION:2.0
PRODID:-//ChamberMaster//Event Calendar 2.0//EN
METHOD:PUBLISH
X-PUBLISHED-TTL:P3D
REFRESH-INTERVAL:P3D
CALSCALE:GREGORIAN
BEGIN:VEVENT
DTSTART:20180811T160000Z
DTEND:20180811T210000Z
X-MICROSOFT-CDO-ALLDAYEVENT:FALSE
SUMMARY:Wings Financial Credit Union's Special Youth Event
DESCRIPTION:part of our commitment to financial literacy\, Wings Financial is proud to offer our free SOAR class at the Museum of Flight on Saturday\, August 11th\, from 9am to 2pm. This third annual event is for youth\, ages 13-22\, and is designed to help them learn how to make smart financial choices. Both lunch and museum admission are provided. Members who attend the entire session and score at least 70% on the post-test will receive a $100 deposit to their share account!
X-ALT-DESC;FMTTYPE=text/html:&nbsp\;part of our commitment to financial literacy\, Wings Financial is proud to offer our free SOAR class at the Museum of Flight on Saturday\, August 11th\, from 9am to 2pm. This third annual event is for youth\, ages 13-22\, and is designed to help them learn how to make smart financial choices. Both lunch and museum admission are provided. Members who attend the entire session and score at least 70% on the post-test will receive a $100 deposit to their share account!
LOCATION:Museum of Flight 9404 E Marginal WA S Seattle\, WA 98108
UID:e.2591.2164
SEQUENCE:3
DTSTAMP:20260424T234623Z
URL:http://seattlesouthsidechamber.com/events/details/wings-financial-credit-union-s-special-youth-event-2164
END:VEVENT

END:VCALENDAR
