BEGIN:VCALENDAR
VERSION:2.0
PRODID:-//ChamberMaster//Event Calendar 2.0//EN
METHOD:PUBLISH
X-PUBLISHED-TTL:P3D
REFRESH-INTERVAL:P3D
CALSCALE:GREGORIAN
BEGIN:VEVENT
DTSTART:20200212T003000Z
DTEND:20200212T033000Z
X-MICROSOFT-CDO-ALLDAYEVENT:FALSE
SUMMARY:Wingate by Wyndham Grand Opening
DESCRIPTION:Join us to celebrate the newest hotel in SeaTac! Festivities include:\n\n	Ribbon Cutting\n	Live Entertainment\n	Tours of the New Hotel\n	Door Prizes*\n\n*Door prizes include a custom wine tour for two and a two-night stay in San Jose\, CA.
X-ALT-DESC;FMTTYPE=text/html:Join us to celebrate the newest hotel in SeaTac! Festivities include:\n<ul>\n	<li>Ribbon Cutting</li>\n	<li>Live Entertainment</li>\n	<li>Tours of the New Hotel</li>\n	<li>Door Prizes*</li>\n</ul>\n*Door prizes include a custom wine tour for two and a two-night stay in San Jose\, CA.<br />\n&nbsp\;
LOCATION:Wingate by Wyndham Seattle SeaTac Airport 19031 International Blvd\, SEaTac\, WA 98188
UID:e.2591.3725
SEQUENCE:3
DTSTAMP:20260423T132924Z
URL:http://seattlesouthsidechamber.com/events/details/wingate-by-wyndham-grand-opening-3725
END:VEVENT

END:VCALENDAR
