BEGIN:VCALENDAR
VERSION:2.0
PRODID:-//ChamberMaster//Event Calendar 2.0//EN
METHOD:PUBLISH
X-PUBLISHED-TTL:P3D
REFRESH-INTERVAL:P3D
CALSCALE:GREGORIAN
BEGIN:VEVENT
DTSTART:20190411T190000Z
DTEND:20190411T213000Z
X-MICROSOFT-CDO-ALLDAYEVENT:FALSE
SUMMARY:WIBLI Symposium: Male Champions for Gender Equity
DESCRIPTION:Men and women have a joint responsibility to achieve gender equality in the workplace. But\, where can men start and how can men be thoughtful and effective advocates for this change? Join Seattle Metro Chamber for their next WIBLI Symposium where we will explore opportunities for men to participate in achieving this worthwhile goal. https://smcc.bz/2HIUno7
X-ALT-DESC;FMTTYPE=text/html:<span style="background-image:initial\;background-position:initial\;background-size:initial\;background-repeat:initial\;background-attachment:initial\;background-origin:initial\;background-clip:initial\;"><span style="font-family:segoe ui\,sans-serif\;"><span style="font-size:12pt\;">Men and women have a joint responsibility to achieve gender equality in the workplace. But\, where can men start and how can men be thoughtful and effective advocates for this change? Join Seattle Metro Chamber for their next WIBLI Symposium where we will explore opportunities for men to participate in achieving this worthwhile goal. </span></span></span><span style="font-family:times new roman\,serif\;"><span style="font-size:12.0pt\;"><a href="https://smcc.bz/2HIUno7"><span style="background-image:initial\;background-position:initial\;background-size:initial\;background-repeat:initial\;background-attachment:initial\;background-origin:initial\;background-clip:initial\;"><span style="font-family:segoe ui\,sans-serif\;">https://smcc.bz/2HIUno7</span></span></a></span></span><span style="background-image:initial\;background-position:initial\;background-size:initial\;background-repeat:initial\;background-attachment:initial\;background-origin:initial\;background-clip:initial\;"><span style="font-family:segoe ui\,sans-serif\;"><span style="font-size:12pt\;"> &nbsp\;</span></span></span>
LOCATION:Hilton Seattle 1301 6th Ave\, Seattle\, WA\, 98101
UID:e.2591.2898
SEQUENCE:3
DTSTAMP:20260424T080756Z
URL:http://seattlesouthsidechamber.com/events/details/wibli-symposium-male-champions-for-gender-equity-2898
END:VEVENT

END:VCALENDAR
