BEGIN:VCALENDAR
VERSION:2.0
PRODID:-//ChamberMaster//Event Calendar 2.0//EN
METHOD:PUBLISH
X-PUBLISHED-TTL:P3D
REFRESH-INTERVAL:P3D
CALSCALE:GREGORIAN
BEGIN:VEVENT
DTSTART:20180531T160000Z
DTEND:20180531T173000Z
X-MICROSOFT-CDO-ALLDAYEVENT:FALSE
SUMMARY:Which China to Engage? Learning the Different Sets of Applicable Rules & Etiquette
DESCRIPTION:When you think about doing business with China\, what picture comes to mind? Did you know that\, just like America cannot be generalized by New York\, LA\, Louisiana\, Texas\, or Kansas City culture\, China also cannot be generalized as Beijing\, Shenzhen\, Chengdu\, Lanzhou\, or Zhengzhou culture? Come get a lay of the land of which China you are interested in engaging\, and discover with our speaker how to best engage the local business culture.
X-ALT-DESC;FMTTYPE=text/html:When you think about doing business with China\, what picture comes to mind? Did you know that\, just like America cannot be generalized by New York\, LA\, Louisiana\, Texas\, or Kansas City culture\, China also cannot be generalized as Beijing\, Shenzhen\, Chengdu\, Lanzhou\, or Zhengzhou culture? Come get a lay of the land of which China you are interested in engaging\, and discover with our speaker how to best engage the local business culture.
LOCATION:1301 Fifth Avenue\, Suite 1500 Seattle\, WA 98101
UID:e.2591.2109
SEQUENCE:3
DTSTAMP:20260425T032912Z
URL:http://seattlesouthsidechamber.com/events/details/which-china-to-engage-learning-the-different-sets-of-applicable-rules-etiquette-2109
END:VEVENT

END:VCALENDAR
