BEGIN:VCALENDAR
VERSION:2.0
PRODID:-//ChamberMaster//Event Calendar 2.0//EN
METHOD:PUBLISH
X-PUBLISHED-TTL:P3D
REFRESH-INTERVAL:P3D
CALSCALE:GREGORIAN
BEGIN:VEVENT
DTSTART:20180801T010000Z
DTEND:20180801T030000Z
X-MICROSOFT-CDO-ALLDAYEVENT:FALSE
SUMMARY:Westfield Southcenter 50th Anniversary Party
DESCRIPTION:It has been fifty years since Southcenter Mall opened its doors to the public and you are invited to join in the festivities! On July 31st\, the City of Tukwila\, Westfield Southcenter\, and the Seattle Southside Chamber of Commerce will be celebrating the 50th anniversary of Southcenter Mall with an evening reception. Ticket proceeds benefit Children's Hospital.
X-ALT-DESC;FMTTYPE=text/html:It has been fifty years since Southcenter Mall opened its doors to the public and you are invited to join in the festivities! On July 31st\, the City of Tukwila\, Westfield Southcenter\, and the Seattle Southside Chamber of Commerce will be celebrating the 50th anniversary of Southcenter Mall with an evening reception. Ticket proceeds benefit Children&rsquo\;s Hospital.
LOCATION:Westfield Southcenter
UID:e.2591.2153
SEQUENCE:3
DTSTAMP:20260424T234525Z
URL:http://seattlesouthsidechamber.com/events/details/westfield-southcenter-50th-anniversary-party-2153
END:VEVENT

END:VCALENDAR
