BEGIN:VCALENDAR
VERSION:2.0
PRODID:-//ChamberMaster//Event Calendar 2.0//EN
METHOD:PUBLISH
X-PUBLISHED-TTL:P3D
REFRESH-INTERVAL:P3D
CALSCALE:GREGORIAN
BEGIN:VEVENT
DTSTART:20181108T020000Z
DTEND:20181108T040000Z
X-MICROSOFT-CDO-ALLDAYEVENT:FALSE
SUMMARY:Wellness in Retirement: A workshop to find purpose during retirement
DESCRIPTION:Come learn about the following topics:\n\n	Signs and symptoms of anxiety and depression\n	Loss of purpose after retiring\n	Finding purpose in the physical\, emotional\, spiritual and psychological aspects of your life
X-ALT-DESC;FMTTYPE=text/html:Come learn about the following topics:\n<ul>\n	<li>Signs and symptoms of&nbsp\;anxiety and depression</li>\n	<li>Loss of purpose after retiring</li>\n	<li>Finding purpose in the physical\, emotional\, spiritual and psychological aspects of your life</li>\n</ul>\n
LOCATION:Mainspring Wealth Advisors 112 SW 157th Street Burien\, WA 98166
UID:e.2591.2586
SEQUENCE:3
DTSTAMP:20260424T173305Z
URL:http://seattlesouthsidechamber.com/events/details/wellness-in-retirement-a-workshop-to-find-purpose-during-retirement-2586
END:VEVENT

END:VCALENDAR
