BEGIN:VCALENDAR
VERSION:2.0
PRODID:-//ChamberMaster//Event Calendar 2.0//EN
METHOD:PUBLISH
X-PUBLISHED-TTL:P3D
REFRESH-INTERVAL:P3D
CALSCALE:GREGORIAN
BEGIN:VEVENT
DTSTART:20181013T180000Z
DTEND:20181013T210000Z
X-MICROSOFT-CDO-ALLDAYEVENT:FALSE
SUMMARY:We Mean Business! Empowering Latinx Small Businesses and Nonprofits
DESCRIPTION:Free event open to the public.\n\n-Hear success stories from entrepreneurs in our community.\n\n-Learn how other Latin@s have started and grown their businesses and nonprofits.\n\n-Get valuable tips and advice on how to start or grow yours.\n\n-Share information about your products and services.\n\n\n\nRaffle prizes and snacks provided!\n\n\n\nFor more information or to request time to talk about your product or service\, please  or email espanol@kcls.org.
X-ALT-DESC;FMTTYPE=text/html:<span style="color: rgb(29\, 33\, 41)\; font-family: Helvetica\, Arial\, sans-serif\; font-size: 14px\;">Free event open to the public.</span><br style="color: rgb(29\, 33\, 41)\; font-family: Helvetica\, Arial\, sans-serif\; font-size: 14px\;" />\n<span style="color: rgb(29\, 33\, 41)\; font-family: Helvetica\, Arial\, sans-serif\; font-size: 14px\;">-Hear success stories from entrepreneurs in our community.</span><br style="color: rgb(29\, 33\, 41)\; font-family: Helvetica\, Arial\, sans-serif\; font-size: 14px\;" />\n<span style="color: rgb(29\, 33\, 41)\; font-family: Helvetica\, Arial\, sans-serif\; font-size: 14px\;">-Learn how other Latin@s have started and grown their businesses and nonprofits.</span><br style="color: rgb(29\, 33\, 41)\; font-family: Helvetica\, Arial\, sans-serif\; font-size: 14px\;" />\n<span style="color: rgb(29\, 33\, 41)\; font-family: Helvetica\, Arial\, sans-serif\; font-size: 14px\;">-Get valuable tips and advice on how to start or grow yours.</span><br style="color: rgb(29\, 33\, 41)\; font-family: Helvetica\, Arial\, sans-serif\; font-size: 14px\;" />\n<span style="color: rgb(29\, 33\, 41)\; font-family: Helvetica\, Arial\, sans-serif\; font-size: 14px\;">-Share information about your products and services.</span><br style="color: rgb(29\, 33\, 41)\; font-family: Helvetica\, Arial\, sans-serif\; font-size: 14px\;" />\n<br style="color: rgb(29\, 33\, 41)\; font-family: Helvetica\, Arial\, sans-serif\; font-size: 14px\;" />\n<span style="color: rgb(29\, 33\, 41)\; font-family: Helvetica\, Arial\, sans-serif\; font-size: 14px\;">Raffle prizes and snacks provided!</span><br style="color: rgb(29\, 33\, 41)\; font-family: Helvetica\, Arial\, sans-serif\; font-size: 14px\;" />\n<br style="color: rgb(29\, 33\, 41)\; font-family: Helvetica\, Arial\, sans-serif\; font-size: 14px\;" />\n<span style="color: rgb(29\, 33\, 41)\; font-family: Helvetica\, Arial\, sans-serif\; font-size: 14px\;">For more information or to request time to talk about your product or service\, please&nbsp\; or email espanol@kcls.org.</span>
LOCATION:Burien Library 400 SW 152ND Street Burien\, WA 98166
UID:e.2591.2552
SEQUENCE:3
DTSTAMP:20260424T185859Z
URL:http://seattlesouthsidechamber.com/events/details/we-mean-business-empowering-latinx-small-businesses-and-nonprofits-2552
END:VEVENT

END:VCALENDAR
