BEGIN:VCALENDAR
VERSION:2.0
PRODID:-//ChamberMaster//Event Calendar 2.0//EN
METHOD:PUBLISH
X-PUBLISHED-TTL:P3D
REFRESH-INTERVAL:P3D
CALSCALE:GREGORIAN
BEGIN:VEVENT
DTSTART;VALUE=DATE:20180721
DTEND;VALUE=DATE:20180723
TRANSP:TRANSPARENT
X-MICROSOFT-CDO-ALLDAYEVENT:TRUE
SUMMARY:Waterland Festival
DESCRIPTION:3 day Family Friendly event that is a 6 decade tradition in the City of Des Moines\, WA. Waterland Parade: 6pm on Saturday July 21 Waterland Wheels & Keels classic car and wooden boat show: 10am - 4pm on Sunday July 22nd Waterland Kids Carnival: Bounce House fun Saturday and Sunday at the Beach Park NEW - Waterland Fine Arts Show: Saturday & Sunday at the Beach Park meadow
X-ALT-DESC;FMTTYPE=text/html:3 day Family Friendly event that is a 6 decade tradition in the City of Des Moines\, WA. Waterland Parade: 6pm on Saturday July 21 Waterland Wheels &amp\; Keels classic car and wooden boat show: 10am - 4pm on Sunday July 22nd Waterland Kids Carnival: Bounce House fun Saturday and Sunday at the Beach Park NEW - Waterland Fine Arts Show: Saturday &amp\; Sunday at the Beach Park meadow
LOCATION:Des Moines\, WA
UID:e.2591.1089
SEQUENCE:3
DTSTAMP:20260425T012703Z
URL:http://seattlesouthsidechamber.com/events/details/waterland-festival-1089
END:VEVENT

END:VCALENDAR
