BEGIN:VCALENDAR
VERSION:2.0
PRODID:-//ChamberMaster//Event Calendar 2.0//EN
METHOD:PUBLISH
X-PUBLISHED-TTL:P3D
REFRESH-INTERVAL:P3D
CALSCALE:GREGORIAN
BEGIN:VEVENT
DTSTART:20180908T170000Z
DTEND:20180908T210000Z
X-MICROSOFT-CDO-ALLDAYEVENT:FALSE
SUMMARY:Waterfront Farmers Market
DESCRIPTION:Waterfront Farmers Market - June-September 2018\n\nSaturdays 10am-2pm\nThe Des Moines Farmers Market and Food Truck Saturdays runs June through September. 2 hours parking validated! The Des Moines Waterfront Farmers Market was formed in 2006 as a non-profit entity\, unique among the local farmers markets by requiring all of its farmers to meet a basic set of environmental stewardship principles that ensure their farming practices protect the environment while sustaining the long term viability of farmland. These practices include protecting water quality\, using natural methods of pest control\, preventing soil loss\, conserving energy\, using water conservation measures\, protecting fish and wildlife habitat and enhancing genetic diversity.
X-ALT-DESC;FMTTYPE=text/html:<h2 style="margin: 10px 0px\; font-family: LeagueGothicRegular\, &quot\;lucida sans unicode&quot\;\, &quot\;lucida grande&quot\;\, &quot\;Trebuchet MS&quot\;\, verdana\, arial\, helvetica\, helve\, sans-serif\; line-height: 32px\; color: rgb(0\, 38\, 90)\; text-rendering: optimizeLegibility\; font-size: 28px\; background-color: rgb(251\, 251\, 251)\;">Waterfront Farmers Market - June-September 2018<br />\nSaturdays 10am-2pm</h2>\n<span style="font-family: LeagueGothicRegular\, &quot\;lucida sans unicode&quot\;\, &quot\;lucida grande&quot\;\, &quot\;Trebuchet MS&quot\;\, verdana\, arial\, helvetica\, helve\, sans-serif\; font-size: 18px\; background-color: rgb(251\, 251\, 251)\;">The Des Moines Farmers Market and Food Truck Saturdays runs June through September. 2 hours parking validated! The Des Moines Waterfront Farmers Market was formed in 2006 as a non-profit entity\, unique among the local farmers markets by requiring all of its farmers to meet a basic set of environmental stewardship principles that ensure their farming practices protect the environment while sustaining the long term viability of farmland. These practices include protecting water quality\, using natural methods of pest control\, preventing soil loss\, conserving energy\, using water conservation measures\, protecting fish and wildlife habitat and enhancing genetic diversity.</span>
LOCATION:City of Des Moines Marina 22307 Dock Ave S\, Des Moines\, WA 98198
UID:e.2591.2313
SEQUENCE:3
DTSTAMP:20260424T221322Z
URL:http://seattlesouthsidechamber.com/events/details/waterfront-farmers-market-09-08-2018-2313
END:VEVENT

END:VCALENDAR
