BEGIN:VCALENDAR
VERSION:2.0
PRODID:-//ChamberMaster//Event Calendar 2.0//EN
METHOD:PUBLISH
X-PUBLISHED-TTL:P3D
REFRESH-INTERVAL:P3D
CALSCALE:GREGORIAN
BEGIN:VEVENT
DTSTART;VALUE=DATE:20180927
DTEND;VALUE=DATE:20181102
TRANSP:TRANSPARENT
X-MICROSOFT-CDO-ALLDAYEVENT:TRUE
SUMMARY:Warm Clothing Drive for the Homeless
DESCRIPTION:10th Annual Warm Clothing Drive\, in benefit of Seattle Homeless Outreach Organization\, formerly Heroes for the Homeless.\n\nIf you would like to donate gently used warm clothing\, the Seattle Southside Chamber has a barrel for collection. If you would like to have a barrel for collection\, barrels are available for your business. Please contact Daniel Diederichs of Diecutstickers\, information below.
X-ALT-DESC;FMTTYPE=text/html:10th Annual Warm Clothing Drive\, in benefit of Seattle Homeless Outreach Organization\, formerly Heroes for the Homeless.<br />\nIf you would like to donate gently used warm clothing\, the Seattle Southside Chamber has a barrel for collection. If you would like to have a barrel for collection\, barrels are available for your business. Please contact Daniel Diederichs of Diecutstickers\, information below.
LOCATION:Drop off donation sites: Academy Schools 14601 Interurban Ave S Tukwila\, WA 98168 Diecutstickers 345 Andover Park East Suite #2 Tukwila\, WA 98188 Seattle Southside Chamber of Commerce 14220 Interurban Ave South #134 Tukwila\, WA 98168
UID:e.2591.2571
SEQUENCE:3
DTSTAMP:20260424T174659Z
URL:http://seattlesouthsidechamber.com/events/details/warm-clothing-drive-for-the-homeless-2571
END:VEVENT

END:VCALENDAR
