BEGIN:VCALENDAR
VERSION:2.0
PRODID:-//ChamberMaster//Event Calendar 2.0//EN
METHOD:PUBLISH
X-PUBLISHED-TTL:P3D
REFRESH-INTERVAL:P3D
CALSCALE:GREGORIAN
BEGIN:VEVENT
DTSTART:20180915T170000Z
DTEND:20180915T190000Z
X-MICROSOFT-CDO-ALLDAYEVENT:FALSE
SUMMARY:Walk for the Women 2018-Hospitality House
DESCRIPTION:Join Hospitality House for our annual Walk for the Women fundraiser on Saturday\, September 15\, 2018 at 10:00am.  It is an easy 2-miles for walkers of every sort: adults\, kids and well-behaved dogs! Wearing green is encouraged but not required. \n\nCome & enjoy a gift for each walker\, music and the fun of the Burien Health Fair!
X-ALT-DESC;FMTTYPE=text/html:Join Hospitality House for our annual Walk for the Women fundraiser on Saturday\, September 15\, 2018 at 10:00am. &nbsp\;It is an easy 2-miles for walkers of every sort: adults\, kids and well-behaved dogs! Wearing green is encouraged but not required.&nbsp\;<br />\nCome &amp\; enjoy a gift for each walker\, music and the fun of the Burien Health Fair!
LOCATION:Burien Town Square Park 480 S.W. 152nd St Burien\, WA 98166
UID:e.2591.2353
SEQUENCE:3
DTSTAMP:20260424T221726Z
URL:http://seattlesouthsidechamber.com/events/details/walk-for-the-women-2018-hospitality-house-2353
END:VEVENT

END:VCALENDAR
