BEGIN:VCALENDAR
VERSION:2.0
PRODID:-//ChamberMaster//Event Calendar 2.0//EN
METHOD:PUBLISH
X-PUBLISHED-TTL:P3D
REFRESH-INTERVAL:P3D
CALSCALE:GREGORIAN
BEGIN:VEVENT
DTSTART:20181111T190000Z
DTEND:20181111T200000Z
X-MICROSOFT-CDO-ALLDAYEVENT:FALSE
SUMMARY:Veteran's Day at the Des Moines Field House
DESCRIPTION:Some may remember that in 1954\, President Eisenhower renamed Armistice Day to the holiday we now celebrate as Veterans Day. This will be Des Moines' first celebration of many to come\, and will allow all an opportunity to recognize those who have served our country.\n\nThis celebration will honor all veterans\, both living and posthumous\, for their service while appreciating the freedoms we enjoy today.\n\nFlag ceremonies will include: our flag's posting and retiring\, executed by the Federal Way Cub Scout Pack #318.\n\n"We duly thank them for providing this outstanding service."\n\nRefreshments will be provided by Huntington Park Volunteers.\n\nVeterans will be seated in a place of honor.\n\nA program will be available upon entry to this event.\n\n"Thank you for your participation\, and remembrance. We look forward to seeing you at this event."
X-ALT-DESC;FMTTYPE=text/html:<p style="padding: 0px 0px 10px\; margin: 0px\; font-family: Arial\, Tahoma\, Verdana\; font-size: 12px\;">Some may remember that in 1954\, President Eisenhower renamed Armistice Day to the holiday we now celebrate as Veterans Day. This will be Des Moines&rsquo\; first celebration of many to come\, and will allow all an opportunity to recognize those who have served our country.</p>\n\n<p style="padding: 0px 0px 10px\; margin: 0px\; font-family: Arial\, Tahoma\, Verdana\; font-size: 12px\;">This celebration will honor all veterans\, both living and posthumous\, for their service while appreciating the freedoms we enjoy today.</p>\n\n<p style="padding: 0px 0px 10px\; margin: 0px\; font-family: Arial\, Tahoma\, Verdana\; font-size: 12px\;">Flag ceremonies will include: our flag&rsquo\;s posting and retiring\, executed by the Federal Way Cub Scout Pack #318.</p>\n\n<p style="padding: 0px 0px 10px\; margin: 0px\; font-family: Arial\, Tahoma\, Verdana\; font-size: 12px\;">&ldquo\;We duly thank them for providing this outstanding service.&rdquo\;</p>\n\n<p style="padding: 0px 0px 10px\; margin: 0px\; font-family: Arial\, Tahoma\, Verdana\; font-size: 12px\;">Refreshments will be provided by Huntington Park Volunteers.</p>\n\n<p style="padding: 0px 0px 10px\; margin: 0px\; font-family: Arial\, Tahoma\, Verdana\; font-size: 12px\;">Veterans will be seated in a place of honor.</p>\n\n<p style="padding: 0px 0px 10px\; margin: 0px\; font-family: Arial\, Tahoma\, Verdana\; font-size: 12px\;">A program will be available upon entry to this event.</p>\n\n<p style="padding: 0px 0px 10px\; margin: 0px\; font-family: Arial\, Tahoma\, Verdana\; font-size: 12px\;">&ldquo\;Thank you for your participation\, and remembrance. We look forward to seeing you at this event.&rdquo\;</p>\n
LOCATION:Des Moines Field House 1000 S 220th Street\, Des Moines\, WA 98198.
UID:e.2591.2610
SEQUENCE:3
DTSTAMP:20260424T173356Z
URL:http://seattlesouthsidechamber.com/events/details/veteran-s-day-at-the-des-moines-field-house-2610
END:VEVENT

END:VCALENDAR
