BEGIN:VCALENDAR
VERSION:2.0
PRODID:-//ChamberMaster//Event Calendar 2.0//EN
METHOD:PUBLISH
X-PUBLISHED-TTL:P3D
REFRESH-INTERVAL:P3D
CALSCALE:GREGORIAN
BEGIN:VEVENT
DTSTART:20181020T170000Z
DTEND:20181020T180000Z
X-MICROSOFT-CDO-ALLDAYEVENT:FALSE
SUMMARY:Valley Ridge Sports Complex - Ribbon Cutting
DESCRIPTION:Come celebrate the upgraded sports complex with us.  The improvements include new synthetic turf on three existing sports fields\; the fourth field has been upgraded with synthetic turf\, and an LED lighting system.  We also added a new restroom building with concession area\, parks maintenance storage and perimeter landscaping.  These upgrades have made the Valley Ridge sports complex a premier destination for sport enthusiasts in South King County.
X-ALT-DESC;FMTTYPE=text/html:Come celebrate the upgraded sports complex with us.&nbsp\; The improvements include new synthetic turf on three existing sports fields\; the fourth field has been upgraded with synthetic turf\, and an LED lighting system.&nbsp\; We also added a new restroom building with concession area\, parks maintenance storage and perimeter landscaping.&nbsp\; These upgrades have made the Valley Ridge sports complex a premier destination for sport enthusiasts in South King County.
LOCATION:Valley Ridge Park 4644 S. 188th St SeaTac\, WA 98188
UID:e.2591.2573
SEQUENCE:3
DTSTAMP:20260424T185348Z
URL:http://seattlesouthsidechamber.com/events/details/valley-ridge-sports-complex-ribbon-cutting-2573
END:VEVENT

END:VCALENDAR
