BEGIN:VCALENDAR
VERSION:2.0
PRODID:-//ChamberMaster//Event Calendar 2.0//EN
METHOD:PUBLISH
X-PUBLISHED-TTL:P3D
REFRESH-INTERVAL:P3D
CALSCALE:GREGORIAN
BEGIN:VEVENT
DTSTART:20180726T000000Z
DTEND:20180726T020000Z
X-MICROSOFT-CDO-ALLDAYEVENT:FALSE
SUMMARY:Tukwila's See You in the Park
DESCRIPTION:Tukwila's See You in the Park. Pack a picnic and come enjoy live music\, lawn games\, arts & craft projects\, and more. Free treats and goodies provided to the first 200 attendees!
X-ALT-DESC;FMTTYPE=text/html:Tukwila&#39\;s See You in the Park. Pack a picnic and come enjoy live music\, lawn games\, arts &amp\; craft projects\, and more. Free treats and goodies provided to the first 200 attendees!
LOCATION:Tukwila Park\, 15460 65th Ave S.
UID:e.2591.2144
SEQUENCE:3
DTSTAMP:20260425T012703Z
URL:http://seattlesouthsidechamber.com/events/details/tukwila-s-see-you-in-the-park-2144
END:VEVENT

END:VCALENDAR
