BEGIN:VCALENDAR
VERSION:2.0
PRODID:-//ChamberMaster//Event Calendar 2.0//EN
METHOD:PUBLISH
X-PUBLISHED-TTL:P3D
REFRESH-INTERVAL:P3D
CALSCALE:GREGORIAN
BEGIN:VEVENT
DTSTART:20180727T200000Z
DTEND:20180727T220000Z
X-MICROSOFT-CDO-ALLDAYEVENT:FALSE
SUMMARY:Tukwila's Peanut Butter & JAM
DESCRIPTION:Held outside at the Tukwila Community Center next to the spray park\, this free family performance series\, put on by Tukwila Parks and Recreation\, provide the perfect opportunity for some familly fun in the sun. Pack a picnic and plan to enjoy music\, magic\, and reptiles. Performances begin at 1pm. Be sure to bring a jar of peanut butter and/or jam to donate to the Tukwila Food Pantry.
X-ALT-DESC;FMTTYPE=text/html:Held outside at the Tukwila Community Center next to the spray park\, this free family performance series\, put on by Tukwila Parks and Recreation\, provide the perfect opportunity for some familly fun in the sun. Pack a picnic and plan to enjoy music\, magic\, and reptiles. Performances begin at 1pm. Be sure to bring a jar of peanut butter and/or jam to donate to the Tukwila Food Pantry.&nbsp\;
LOCATION:Tukwila Community Center next to the spray park
UID:e.2591.2145
SEQUENCE:3
DTSTAMP:20260425T012554Z
URL:http://seattlesouthsidechamber.com/events/details/tukwila-s-peanut-butter-jam-2145
END:VEVENT

END:VCALENDAR
