BEGIN:VCALENDAR
VERSION:2.0
PRODID:-//ChamberMaster//Event Calendar 2.0//EN
METHOD:PUBLISH
X-PUBLISHED-TTL:P3D
REFRESH-INTERVAL:P3D
CALSCALE:GREGORIAN
BEGIN:VEVENT
DTSTART:20181029T233000Z
DTEND:20181030T013000Z
X-MICROSOFT-CDO-ALLDAYEVENT:FALSE
SUMMARY:Tukwila open house regarding business license increase
DESCRIPTION:The City of Tukwila is encouraging business owners in the city to attend an open house to discuss the upcoming budget. Tukwila is completing its 2019/2020 budget and  is considering increasing business license fees to offset the loss of sales tax revenue. Please attend and join the discussion.
X-ALT-DESC;FMTTYPE=text/html:The City of Tukwila is encouraging business owners in the city to attend an open house to discuss the upcoming budget. Tukwila is completing its 2019/2020 budget and&nbsp\; is considering increasing business license fees to offset the loss of sales tax revenue. Please attend and join the discussion.
LOCATION:City of Tukwila City Hall 6200 Southcenter Boulevard Tukwila\, WA 98188
UID:e.2591.2591
SEQUENCE:3
DTSTAMP:20260424T203346Z
URL:http://seattlesouthsidechamber.com/events/details/tukwila-open-house-regarding-business-license-increase-2591
END:VEVENT

END:VCALENDAR
