BEGIN:VCALENDAR
VERSION:2.0
PRODID:-//ChamberMaster//Event Calendar 2.0//EN
METHOD:PUBLISH
X-PUBLISHED-TTL:P3D
REFRESH-INTERVAL:P3D
CALSCALE:GREGORIAN
BEGIN:VEVENT
DTSTART:20170416T010000Z
DTEND:20170416T050000Z
X-MICROSOFT-CDO-ALLDAYEVENT:FALSE
SUMMARY:Tukwila Historical Society "History After Hours"
DESCRIPTION:The Tukwila Historical Society invoices you to join them at Odin Brewery for History After Hours. \n\n\n\nFood will be serves. No Host Bar Beverages available\,\n\nSilent Auction with great gift idemts\n\nDress Casual.\n\nLimited Seating\, so RSVP at 206-244-4478\n\n\n\nSpecial Guess Speaker\, Pulitzer prize nominee Tom Reese & Eric Wagner who will present photos from the recently publised book "Once and Future River: Reclaiming the Duwamish."
X-ALT-DESC;FMTTYPE=text/html:The Tukwila Historical Society invoices you to join them at Odin Brewery for History After Hours.&nbsp\;<br />\n<br />\nFood will be serves. No Host Bar Beverages available\,<br />\nSilent Auction with great gift idemts<br />\nDress Casual.<br />\nLimited Seating\, so RSVP at 206-244-4478<br />\n<br />\nSpecial Guess Speaker\, Pulitzer prize nominee Tom Reese &amp\; Eric Wagner who will present photos from the recently publised book &quot\;Once and Future River:&nbsp\;Reclaiming the Duwamish.&quot\;
LOCATION:Odin Brewing Company 402 Baker Blvd in Tukwila
UID:e.2591.766
SEQUENCE:3
DTSTAMP:20260426T010500Z
URL:http://seattlesouthsidechamber.com/events/details/tukwila-historical-society-history-after-hours-766
END:VEVENT

END:VCALENDAR
