BEGIN:VCALENDAR
VERSION:2.0
PRODID:-//ChamberMaster//Event Calendar 2.0//EN
METHOD:PUBLISH
X-PUBLISHED-TTL:P3D
REFRESH-INTERVAL:P3D
CALSCALE:GREGORIAN
BEGIN:VEVENT
DTSTART:20180823T000000Z
DTEND:20180823T030000Z
X-MICROSOFT-CDO-ALLDAYEVENT:FALSE
SUMMARY:Tukwila Family Fest
DESCRIPTION:Come to Cascade View Community Park to celebrate Tukwila's diverse communities. It will be an evening filled with music\, resources\, arts & crafts\, bounces\, and more!
X-ALT-DESC;FMTTYPE=text/html:Come to Cascade View Community Park to celebrate Tukwila&#39\;s diverse communities.&nbsp\;It will be an evening filled with&nbsp\;music\, resources\, arts &amp\; crafts\, bounces\, and more!
LOCATION:Cascade View Community Park\, 14211 37th Ave South Tukwila\, WA
UID:e.2591.2149
SEQUENCE:3
DTSTAMP:20260424T221302Z
URL:http://seattlesouthsidechamber.com/events/details/tukwila-family-fest-2149
END:VEVENT

END:VCALENDAR
