BEGIN:VCALENDAR
VERSION:2.0
PRODID:-//ChamberMaster//Event Calendar 2.0//EN
METHOD:PUBLISH
X-PUBLISHED-TTL:P3D
REFRESH-INTERVAL:P3D
CALSCALE:GREGORIAN
BEGIN:VEVENT
DTSTART:20181027T220000Z
DTEND:20181028T003000Z
X-MICROSOFT-CDO-ALLDAYEVENT:FALSE
SUMMARY:Trick or Suite Event-Sponsor a Suite-Embassy Suites/Children's Therapy Center
DESCRIPTION:You are cordially invited to sponsor a suite and participate in our 15th annual Trick or Suite event\, to be held on Saturday October 27\, 2018.  Trick or Suite is a fun-filled event that provides children of varying abilities and needs\, the opportunity to trick-or-treat in a safe and warm environment\,\n\n\n\nThis year we are partnering with Children's Therapy Center. In sponsoring a room for this event\, you will be providing up to 150 extremely appreciative families with the opportunity to have a fun-filled evening and a much-needed respite from the worries and challenges they confront every day.  \n\nClick for more information here
X-ALT-DESC;FMTTYPE=text/html:<span style="font-family:calibri\,sans-serif\;"><span style="font-size:10.0pt\;">You are cordially invited to sponsor a suite and participate in our 15<sup>th</sup> annual Trick or Suite event\, to be held on Saturday October 27\, 2018.&nbsp\; Trick or Suite is a fun-filled event that provides children of varying abilities and needs\, the opportunity to trick-or-treat in a safe and warm environment\,<br />\n<br />\nThis year we are partnering with Children&#39\;s Therapy Center. In sponsoring a room for this event\, you will be providing up to 150 extremely appreciative families with the opportunity to have a fun-filled evening and a much-needed respite from the worries and challenges they confront every day.&nbsp\;&nbsp\;<br />\n<a href="https://www.ctckids.org/blog/blog/category-2/trick-or-suite-2017-at-embassy-suites">Click for more information here</a></span></span>
LOCATION:Embassy Suites Seattle-Tacoma International Airport 15920 West Valley Highway
UID:e.2591.2572
SEQUENCE:3
DTSTAMP:20260424T185544Z
URL:http://seattlesouthsidechamber.com/events/details/trick-or-suite-event-sponsor-a-suite-embassy-suites-children-s-therapy-center-2572
END:VEVENT

END:VCALENDAR
