BEGIN:VCALENDAR
VERSION:2.0
PRODID:-//ChamberMaster//Event Calendar 2.0//EN
METHOD:PUBLISH
X-PUBLISHED-TTL:P3D
REFRESH-INTERVAL:P3D
CALSCALE:GREGORIAN
BEGIN:VEVENT
DTSTART:20190323T200000Z
DTEND:20190323T210000Z
X-MICROSOFT-CDO-ALLDAYEVENT:FALSE
SUMMARY:Town Hall with Congressman Adam Smith
DESCRIPTION:Join Congressman Adam Smith for a Town Hall Meeting! Congressman Smith is looking forward to meeting with constituents to hear your concerns\, answer questions\, and discuss issues facing Congress.\n\n \nThere will be onsite and street parking available.\n\nIf you need translation services or other accommodations\, please contact Congressman Smith's District Office at (425) 793-5180 or email Caitlyn.Cole@mail.house.gov.
X-ALT-DESC;FMTTYPE=text/html:<span style="color: rgb(111\, 114\, 135)\; font-family: &quot\;Neue Plak&quot\;\, -apple-system\, BlinkMacSystemFont\, Roboto\, &quot\;Helvetica Neue&quot\;\, Helvetica\, Tahoma\, Arial\, sans-serif\; font-size: 15px\; letter-spacing: 0.5px\;">Join Congressman Adam Smith for a Town Hall Meeting! Congressman Smith is looking forward to meeting with constituents to hear your concerns\, answer questions\, and discuss issues facing Congress.</span><br />\n&nbsp\;\n<p style="margin: 0px\; padding: 10px 0px 0px\; color: rgb(111\, 114\, 135)\; font-family: &quot\;Neue Plak&quot\;\, -apple-system\, BlinkMacSystemFont\, Roboto\, &quot\;Helvetica Neue&quot\;\, Helvetica\, Tahoma\, Arial\, sans-serif\; font-size: 15px\; letter-spacing: 0.5px\;"><span style="padding-top: 0px\;">There will be onsite and street parking available.</span></p>\n\n<p style="margin: 0px\; padding: 10px 0px 0px\; color: rgb(111\, 114\, 135)\; font-family: &quot\;Neue Plak&quot\;\, -apple-system\, BlinkMacSystemFont\, Roboto\, &quot\;Helvetica Neue&quot\;\, Helvetica\, Tahoma\, Arial\, sans-serif\; font-size: 15px\; letter-spacing: 0.5px\;">If you need translation services or other accommodations\, please contact Congressman Smith&rsquo\;s District Office at (425) 793-5180 or email Caitlyn.Cole@mail.house.gov.</p>\n
LOCATION:Tyee High School 4424 South 188th Street SeaTac\, WA 98188
UID:e.2591.2889
SEQUENCE:3
DTSTAMP:20260424T110419Z
URL:http://seattlesouthsidechamber.com/events/details/town-hall-with-congressman-adam-smith-2889
END:VEVENT

END:VCALENDAR
