BEGIN:VCALENDAR
VERSION:2.0
PRODID:-//ChamberMaster//Event Calendar 2.0//EN
METHOD:PUBLISH
X-PUBLISHED-TTL:P3D
REFRESH-INTERVAL:P3D
CALSCALE:GREGORIAN
BEGIN:VEVENT
DTSTART;VALUE=DATE:20171021
DTEND;VALUE=DATE:20171022
TRANSP:TRANSPARENT
X-MICROSOFT-CDO-ALLDAYEVENT:TRUE
SUMMARY:To Your Health! 21st Annual Gala Havana Nights
DESCRIPTION:Save the Date for Havana Nights\, Celebrating 21 years of commitment to providing access to exceptional health care close to home. To Your Health 21st Annual Gala Saturday October 21st\, 2017 at the Hilton Seattle Airport & Conference Center.\n\n\n\nHonorary co-chairs Larry & Lorann Bjork will be your hosts for a night of Cuban music\, a chef-designed menu\, and your opportinity to invest in innovation and technology at Highline Medical Center
X-ALT-DESC;FMTTYPE=text/html:<strong>Save the Date</strong> for Havana Nights\, Celebrating 21 years of commitment to providing access to exceptional health care close to home. To Your Health 21st Annual Gala Saturday October 21st\, 2017 at the Hilton Seattle Airport &amp\; Conference Center.<br />\n<br />\nHonorary co-chairs Larry &amp\; Lorann Bjork will be your hosts for a night of Cuban music\, a chef-designed menu\, and your opportinity to invest in innovation and technology at Highline Medical Center
LOCATION:Hilton Seattle Airport & Conference Center
UID:e.2591.767
SEQUENCE:3
DTSTAMP:20260425T153158Z
URL:http://seattlesouthsidechamber.com/events/details/to-your-health-21st-annual-gala-havana-nights-767
END:VEVENT

END:VCALENDAR
