BEGIN:VCALENDAR
VERSION:2.0
PRODID:-//ChamberMaster//Event Calendar 2.0//EN
METHOD:PUBLISH
X-PUBLISHED-TTL:P3D
REFRESH-INTERVAL:P3D
CALSCALE:GREGORIAN
BEGIN:VEVENT
DTSTART:20170806T020000Z
DTEND:20170806T040000Z
X-MICROSOFT-CDO-ALLDAYEVENT:FALSE
SUMMARY:Theater in the Park: Shakespeare in the Park
DESCRIPTION:Burien Arts Association and GreenStage Present Shakespeare in the Park \n\n\n\nLake Burien School Park\n\n14640 18th Ave SW\n\n\n\nSaturday\, July 29\, 7pm\n\nComedy of Errors\n\n\n\nSaturday\, Aug 5\, 7pm\n\nRichard II\n\n\n\nwww.burienarts.org
X-ALT-DESC;FMTTYPE=text/html:Burien&nbsp\;Arts Association and&nbsp\;GreenStage&nbsp\;Present&nbsp\;Shakespeare in the Park&nbsp\;<br />\n<br />\nLake&nbsp\;Burien&nbsp\;School Park<br />\n14640&nbsp\;18th&nbsp\;Ave SW<br />\n<br />\nSaturday\, July 29\, 7pm<br />\nComedy of Errors<br />\n<br />\nSaturday\, Aug 5\, 7pm<br />\nRichard II<br />\n<br />\nwww.burienarts.org&nbsp\;
LOCATION:Lake Burien School Park 14640 18th Ave SW
UID:e.2591.839
SEQUENCE:3
DTSTAMP:20260425T182904Z
URL:http://seattlesouthsidechamber.com/events/details/theater-in-the-park-shakespeare-in-the-park-839
END:VEVENT

END:VCALENDAR
