BEGIN:VCALENDAR
VERSION:2.0
PRODID:-//ChamberMaster//Event Calendar 2.0//EN
METHOD:PUBLISH
X-PUBLISHED-TTL:P3D
REFRESH-INTERVAL:P3D
CALSCALE:GREGORIAN
BEGIN:VEVENT
DTSTART:20170729T210000Z
DTEND:20170729T230000Z
X-MICROSOFT-CDO-ALLDAYEVENT:FALSE
SUMMARY:Theater in the Park: Coyote Stories
DESCRIPTION:Theatre in the Park\n\nThe 14/48 Projects Presents Coyote Stories\n\n\n\nThe mischievous Coyote encounters many different animals along his path\, and delights in misleading and deceiving them.\n\n\n\nSaturday\, July 29\, 2pm\n\nNew Start High Sch. Garden\n\n614 SW 120th St in Burien
X-ALT-DESC;FMTTYPE=text/html:Theatre&nbsp\;in the Park<br />\nThe 14/48 Projects Presents Coyote Stories<br />\n<br />\nThe mischievous Coyote encounters many different animals along his path\, and delights in misleading and deceiving them.<br />\n<br />\nSaturday\, July 29\, 2pm<br />\nNew Start High Sch. Garden<br />\n614 SW 120th St in Burien
LOCATION:New Start High Sch. Garden 614 SW 120th St in Burien
UID:e.2591.837
SEQUENCE:3
DTSTAMP:20260425T200817Z
URL:http://seattlesouthsidechamber.com/events/details/theater-in-the-park-coyote-stories-837
END:VEVENT

END:VCALENDAR
