BEGIN:VCALENDAR
VERSION:2.0
PRODID:-//ChamberMaster//Event Calendar 2.0//EN
METHOD:PUBLISH
X-PUBLISHED-TTL:P3D
REFRESH-INTERVAL:P3D
CALSCALE:GREGORIAN
BEGIN:VEVENT
DTSTART:20170722T210000Z
DTEND:20170722T230000Z
X-MICROSOFT-CDO-ALLDAYEVENT:FALSE
SUMMARY:Theater in the Park: Coyote Stories
DESCRIPTION:Theatre in the Park\n\nThe 14/48 Projects Presents Coyote Stories\n\n\n\nThe mischievous Coyote encounters many different animals along his path\, and delights in misleading and deceiving them.\n\n\n\nSaturday\, July 22\, 2pm\n\nDottie Harper Park\n\n421 SW 146th St in Burien
X-ALT-DESC;FMTTYPE=text/html:Theatre in the Park<br />\nThe 14/48 Projects Presents Coyote Stories<br />\n<br />\nThe mischievous Coyote encounters many different animals along his path\, and delights in misleading and deceiving them.<br />\n<br />\nSaturday\, July 22\, 2pm<br />\nDottie Harper Park<br />\n421 SW 146th St in Burien
LOCATION:Dottie Harper Park 421 SW 146th St in Burien
UID:e.2591.836
SEQUENCE:3
DTSTAMP:20260425T200817Z
URL:http://seattlesouthsidechamber.com/events/details/theater-in-the-park-coyote-stories-836
END:VEVENT

END:VCALENDAR
