BEGIN:VCALENDAR
VERSION:2.0
PRODID:-//ChamberMaster//Event Calendar 2.0//EN
METHOD:PUBLISH
X-PUBLISHED-TTL:P3D
REFRESH-INTERVAL:P3D
CALSCALE:GREGORIAN
BEGIN:VEVENT
DTSTART:20180907T183000Z
DTEND:20180907T200000Z
X-MICROSOFT-CDO-ALLDAYEVENT:FALSE
SUMMARY:The Sea-Tac Airport Luncheon
DESCRIPTION:The Seattle Southside Chamber of Commerce is pleased to announce their annual Sea-Tac Airport Luncheon on September 7.\n\n\n\nThis luncheon will feature keynote speaker Lance Lyttle\, Seattle-Tacoma International Airport (Sea-Tac) Director. He will provide updates on airport projects\, including progress on major construction efforts and the ongoing Sustainable Airport Master Plan's environmental review process. The first 50 people to sign up will have the opportunity to take a unique\, behind-the-scenes look at the ongoing construction of the North Satellite Modernization Project. If you would be interested in this\, please select Yes. We will contact the first 50 people with more information. \n\n\n\nThe luncheon will be held from 11:30 a.m.-1 p.m. Friday\, September 7th\, at the Sea-Tac International Airport Conference Center.\n\n\n\nThank you to our host and presenting sponsor\, the Port of Seattle\, and our event sponsors\, Alaska Airlines\, Crain Photography\, and South King Media.\n\n\n\n\n\nPlease indicate whether or not you would like the vegetarian option on your registration.
X-ALT-DESC;FMTTYPE=text/html:<p><span style="font-size:14px\;"><span style="font-family:arial\;">The Seattle Southside Chamber of Commerce is pleased to announce their annual Sea-Tac Airport Luncheon on September 7.<br />\n<br />\nThis luncheon will feature keynote speaker Lance Lyttle\,&nbsp\;Seattle-Tacoma International Airport (Sea-Tac)&nbsp\;Director. He will provide updates on airport projects\, including progress on major construction efforts and the ongoing Sustainable Airport Master Plan&rsquo\;s environmental review process. The first 50 people to sign up will have the opportunity to take a unique\, behind-the-scenes look at the ongoing construction of the North Satellite Modernization Project.&nbsp\;If you would be interested in this\, please select Yes. We will contact the first 50 people with more information.&nbsp\;<br />\n<br />\nThe luncheon will be held from 11:30 a.m.-1 p.m. Friday\, September 7th\, at the Sea-Tac International Airport Conference Center.<br />\n<br />\nThank you to our host and presenting sponsor\, the&nbsp\;Port of Seattle\, and our event sponsors\,&nbsp\;Alaska Airlines\,&nbsp\;Crain Photography\, and&nbsp\;South King Media.<br />\n<br />\n<br />\n<span style="font-size:18px\;"><strong><span style="font-size:16px\;">Please indicate whether or not you would like the vegetarian option on your registration</span>.</strong></span></span></span></p>\n
LOCATION:Seattle-Tacoma International Airport Conference Center 17801 International Blvd Seattle\, WA 98158
UID:e.2591.1070
SEQUENCE:3
DTSTAMP:20260424T173543Z
URL:http://seattlesouthsidechamber.com/events/details/the-sea-tac-airport-luncheon-1070
END:VEVENT

END:VCALENDAR
