BEGIN:VCALENDAR
VERSION:2.0
PRODID:-//ChamberMaster//Event Calendar 2.0//EN
METHOD:PUBLISH
X-PUBLISHED-TTL:P3D
REFRESH-INTERVAL:P3D
CALSCALE:GREGORIAN
BEGIN:VEVENT
DTSTART:20170427T190000Z
DTEND:20170427T200000Z
X-MICROSOFT-CDO-ALLDAYEVENT:FALSE
SUMMARY:The NoHomelessKids Benefit Luncheon
DESCRIPTION:You are cordially invited to attend the annual NoHomelessKids Benefit Luncheon. RSVP by Thursday\, April 20th at NoHomelessKids.org or 425.228.6356. Children shouldn't be homeless   yet the number is rising. Your help is needed more than ever. Come hear a homeless mom share her story   you will be touched and inspired. Learn how you can help homeless families start on a new path in life. There is no cost to attend. A request for donations will be made during the event. Proceeds benefit Vision House families in Renton and Shoreline. Can't attend? Your gift matters! Please consider giving at NoHomelessKids.org.
X-ALT-DESC;FMTTYPE=text/html:You are cordially invited to attend the annual NoHomelessKids Benefit Luncheon. RSVP by Thursday\, April 20th at NoHomelessKids.org or 425.228.6356. Children shouldn&rsquo\;t be homeless &ndash\; yet the number is rising. Your help is needed more than ever. Come hear a homeless mom share her story &ndash\; you will be touched and inspired. Learn how you can help homeless families start on a new path in life. There is no cost to attend. A request for donations will be made during the event. Proceeds benefit Vision House families in Renton and Shoreline. Can&rsquo\;t attend? Your gift matters! Please consider giving at NoHomelessKids.org.
LOCATION:Bellevue Hilton Grand Ballroom 300 112th Ave SE\, Bellevue WA 98004 Free parking
UID:e.2591.629
SEQUENCE:3
DTSTAMP:20260426T023607Z
URL:http://seattlesouthsidechamber.com/events/details/the-nohomelesskids-benefit-luncheon-629
END:VEVENT

END:VCALENDAR
