BEGIN:VCALENDAR
VERSION:2.0
PRODID:-//ChamberMaster//Event Calendar 2.0//EN
METHOD:PUBLISH
X-PUBLISHED-TTL:P3D
REFRESH-INTERVAL:P3D
CALSCALE:GREGORIAN
BEGIN:VEVENT
DTSTART:20180916T203000Z
DTEND:20180917T223000Z
X-MICROSOFT-CDO-ALLDAYEVENT:FALSE
SUMMARY:The Highliners Musical Theatre-Into the Woods
DESCRIPTION:MainStage produces a major Broadway musical each year featuring a live music and high-end production values. Students ages 9-22 participate in a rigorous audition and rehearsal process based on the Actor's Equity Association model. Members of the cast are mentored and supported by local professionals in all fields of the theatre arts. In these productions we strive to meet the highest artistic standards in every way\, and to provide our young actors with a truly memorable\, quality experience.
X-ALT-DESC;FMTTYPE=text/html:MainStage produces a major Broadway musical each year featuring a live music and high-end production values. Students ages 9-22 participate in a rigorous audition and rehearsal process based on the Actor&#39\;s Equity Association model. Members of the cast are mentored and supported by local professionals in all fields of the theatre arts. In these productions we strive to meet the highest artistic standards in every way\, and to provide our young actors with a truly memorable\, quality experience.
LOCATION:Highline Performing Arts Center 401 S 152nd St Burien\, Washington 98148
UID:e.2591.2504
SEQUENCE:3
DTSTAMP:20260424T204156Z
URL:http://seattlesouthsidechamber.com/events/details/the-highliners-musical-theatre-into-the-woods-09-16-2018-2504
END:VEVENT

END:VCALENDAR
