BEGIN:VCALENDAR
VERSION:2.0
PRODID:-//ChamberMaster//Event Calendar 2.0//EN
METHOD:PUBLISH
X-PUBLISHED-TTL:P3D
REFRESH-INTERVAL:P3D
CALSCALE:GREGORIAN
BEGIN:VEVENT
DTSTART:20181111T013000Z
DTEND:20181111T050000Z
X-MICROSOFT-CDO-ALLDAYEVENT:FALSE
SUMMARY:The Hi-liners Annual Gala Dinner and Auction
DESCRIPTION:Last chance for Early Bird ticket prices for The Hi-Liners Annual Dinner Cabaret & Auction! Buy your ticket now\, $60 through October 7   only one week left!
X-ALT-DESC;FMTTYPE=text/html:Last chance for Early Bird ticket prices for The Hi-Liners Annual Dinner Cabaret &amp\; Auction! Buy your ticket now\, $60 through October 7 &mdash\; only one week left!&nbsp\;
LOCATION:The Brockey Conference Center South Seattle College 6000 16th Ave SW\, Seattle\, WA 98106
UID:e.2591.2564
SEQUENCE:3
DTSTAMP:20260424T173120Z
URL:http://seattlesouthsidechamber.com/events/details/the-hi-liners-annual-gala-dinner-and-auction-2564
END:VEVENT

END:VCALENDAR
