BEGIN:VCALENDAR
VERSION:2.0
PRODID:-//ChamberMaster//Event Calendar 2.0//EN
METHOD:PUBLISH
X-PUBLISHED-TTL:P3D
REFRESH-INTERVAL:P3D
CALSCALE:GREGORIAN
BEGIN:VEVENT
DTSTART:20190416T163000Z
DTEND:20190416T190000Z
X-MICROSOFT-CDO-ALLDAYEVENT:FALSE
SUMMARY:The Asian American Pacific Islander (AAPI) Small Business Roundtable
DESCRIPTION:Who should attend: small business owners and entrepreneurs   local\, state and federal government   chambers and business associations   lenders   business resource partners and organizations \n\nThe SBA is hosting a roundtable to listen and document best practices that will be used to inform outreach strategies to small businesses for the WHIAAPI\, and to connect local small businesses to new resources
X-ALT-DESC;FMTTYPE=text/html:<span style="color:windowtext\;">Who should attend: small business owners and entrepreneurs &#9642\; local\, state and federal government &#9642\; chambers and business associations &#9642\; lenders &#9642\; business resource partners and organizations </span><br />\n<span style="color:windowtext\;">The SBA is hosting a roundtable to listen and document best practices that will be used to inform outreach strategies to small businesses for the WHIAAPI\, and to connect local small businesses to new resources</span>
LOCATION:Bellevue Library
UID:e.2591.2903
SEQUENCE:3
DTSTAMP:20260424T093352Z
URL:http://seattlesouthsidechamber.com/events/details/the-asian-american-pacific-islander-aapi-small-business-roundtable-2903
END:VEVENT

END:VCALENDAR
