BEGIN:VCALENDAR
VERSION:2.0
PRODID:-//ChamberMaster//Event Calendar 2.0//EN
METHOD:PUBLISH
X-PUBLISHED-TTL:P3D
REFRESH-INTERVAL:P3D
CALSCALE:GREGORIAN
BEGIN:VEVENT
DTSTART:20180603T220000Z
DTEND:20180604T010000Z
X-MICROSOFT-CDO-ALLDAYEVENT:FALSE
SUMMARY:Summer Sip in the Garden
DESCRIPTION:Meet Your Makers in the Garden  Wine\, Brews\, & Ciders! Join us for this 2nd Annual Summer Sip in the Garden Sunday\, June 3\, 2018 at the beautiful Highline SeaTac Botanical Gardens! Enjoy delicious tastes from your local craft producers while strolling in the garden with a cold drink in your hand! Not just wine tasting\, but craft beer and ciders too!\n\n\n\nA collaboration between Seattle Uncorked & Rotary Club of Duwamish Southside. Benefits Community Projects: Tukwila Pantry\, SeaTac & Tukwila Elementary Libraries\, SeaTac Back to School Fair\, and Tyee DECA Program.\n\n\n\nTickets are $25 advance / $30 at the door.
X-ALT-DESC;FMTTYPE=text/html:<span style="font-size:14px\;"><span style="font-family:arial\;">Meet Your Makers in the Garden &nbsp\;Wine\, Brews\, &amp\; Ciders! Join us for this 2nd Annual Summer Sip in the Garden Sunday\, June 3\, 2018 at the beautiful Highline SeaTac Botanical Gardens! Enjoy delicious tastes from your local craft producers while strolling in the garden with a cold drink in your hand! Not just wine tasting\, but craft beer and ciders too!</span><br />\n<br />\n<span style="font-family: Helvetica\, Arial\, sans-serif\;">A collaboration between Seattle Uncorked &amp\; Rotary Club of Duwamish Southside. Benefits Community Projects: Tukwila Pantry\, SeaTac &amp\; Tukwila Elementary Libraries\, SeaTac Back to School Fair\, and Tyee DECA Program.</span><br style="color: rgb(119\, 119\, 119)\; font-family: Helvetica\, Arial\, sans-serif\; font-size: 12px\;" />\n<br style="color: rgb(119\, 119\, 119)\; font-family: Helvetica\, Arial\, sans-serif\; font-size: 12px\;" />\n<span style="font-family: Helvetica\, Arial\, sans-serif\;">Tickets are $25 advance / $30 at the door.</span></span>
LOCATION:13735 24th AVE S SeaTac\, WA 98188
UID:e.2591.2101
SEQUENCE:3
DTSTAMP:20260425T012600Z
URL:http://seattlesouthsidechamber.com/events/details/summer-sip-in-the-garden-2101
END:VEVENT

END:VCALENDAR
