BEGIN:VCALENDAR
VERSION:2.0
PRODID:-//ChamberMaster//Event Calendar 2.0//EN
METHOD:PUBLISH
X-PUBLISHED-TTL:P3D
REFRESH-INTERVAL:P3D
CALSCALE:GREGORIAN
BEGIN:VEVENT
DTSTART:20180616T170000Z
DTEND:20180616T230000Z
X-MICROSOFT-CDO-ALLDAYEVENT:FALSE
SUMMARY:STRAWBERRY DAYS\, SOAP BOX DERBY RACES & CORNHOLE TOURNAMENT
DESCRIPTION:Enjoy the Strawberry Days (Formerly Strawberry Festival)\, Soap Box Derby Races and Relay For Life Cornhole Tournament hosted by Discover Burien! See below for the full list of rules and regulations for each part of this packed fun-filled event.
X-ALT-DESC;FMTTYPE=text/html:Enjoy the Strawberry Days (Formerly Strawberry Festival)\, Soap Box Derby Races and Relay For Life Cornhole Tournament hosted by Discover Burien! See below for the full list of rules and regulations for each part of this packed fun-filled event.
LOCATION:SW 152nd Street (Downtown Burien)
UID:e.2591.2124
SEQUENCE:3
DTSTAMP:20260425T012709Z
URL:http://seattlesouthsidechamber.com/events/details/strawberry-days-soap-box-derby-races-cornhole-tournament-2124
END:VEVENT

END:VCALENDAR
