BEGIN:VCALENDAR
VERSION:2.0
PRODID:-//ChamberMaster//Event Calendar 2.0//EN
METHOD:PUBLISH
X-PUBLISHED-TTL:P3D
REFRESH-INTERVAL:P3D
CALSCALE:GREGORIAN
BEGIN:VEVENT
DTSTART:20181201T170000Z
DTEND:20181201T180000Z
X-MICROSOFT-CDO-ALLDAYEVENT:FALSE
SUMMARY:Storytime with Mrs. Claus at Westfield Southcenter
DESCRIPTION:It's time for some holiday fun with your little ones! Enjoy an interactive\, magical story time with Mrs. Claus\, hot cocoa\, delicious treats and more!\n\nThis event is perfect for preschoolers\, but open to all.\n\nAll ticket proceeds benefit the Seattle Children's Hospital
X-ALT-DESC;FMTTYPE=text/html:<p style="box-sizing: border-box\; margin: 0px 0px 1rem\; color: rgb(34\, 34\, 34)\; font-family: &quot\;Open Sans&quot\;\, sans-serif\; font-size: 16px\;"><span style="box-sizing: border-box\; font-weight: 600\; font-family: &quot\;Open Sans Semibold&quot\;\, sans-serif\;">It&#39\;s time for some holiday fun with your little ones!</span>&nbsp\;Enjoy an interactive\, magical story time with Mrs. Claus\, hot cocoa\, delicious treats and more!</p>\n\n<p style="box-sizing: border-box\; margin: 0px 0px 1rem\; color: rgb(34\, 34\, 34)\; font-family: &quot\;Open Sans&quot\;\, sans-serif\; font-size: 16px\;">This event is perfect for preschoolers\, but open to all.<br />\nAll ticket proceeds benefit the Seattle Children&#39\;s Hospital</p>\n
LOCATION:Westfield Southcenter-This event will be located on Level 1 in Macy's Court. 2800 Southcenter Mall Seattle\, WA 98188
UID:e.2591.2626
SEQUENCE:3
DTSTAMP:20260424T155223Z
URL:http://seattlesouthsidechamber.com/events/details/storytime-with-mrs-claus-at-westfield-southcenter-2626
END:VEVENT

END:VCALENDAR
