BEGIN:VCALENDAR
VERSION:2.0
PRODID:-//ChamberMaster//Event Calendar 2.0//EN
METHOD:PUBLISH
X-PUBLISHED-TTL:P3D
REFRESH-INTERVAL:P3D
CALSCALE:GREGORIAN
BEGIN:VEVENT
DTSTART:20190407T000000Z
DTEND:20190407T040000Z
X-MICROSOFT-CDO-ALLDAYEVENT:FALSE
SUMMARY:Still Waters Tukwila SnackPack 3rd Annual Auction Dinner
DESCRIPTION:Still Waters 3rd Annual Auction Dinner to benefit TukSnackPack. Sponsorship opportunities available.
X-ALT-DESC;FMTTYPE=text/html:Still Waters 3rd Annual Auction Dinner to benefit TukSnackPack. Sponsorship opportunities available.
LOCATION:Hotel Interurban Tukwila Rainier Room 223 Andover Park E\, Tukwila\, WA 98188
UID:e.2591.2621
SEQUENCE:3
DTSTAMP:20260424T111513Z
URL:http://seattlesouthsidechamber.com/events/details/still-waters-tukwila-snackpack-3rd-annual-auction-dinner-2621
END:VEVENT

END:VCALENDAR
