BEGIN:VCALENDAR
VERSION:2.0
PRODID:-//ChamberMaster//Event Calendar 2.0//EN
METHOD:PUBLISH
X-PUBLISHED-TTL:P3D
REFRESH-INTERVAL:P3D
CALSCALE:GREGORIAN
BEGIN:VEVENT
DTSTART:20171115T013000Z
DTEND:20171115T030000Z
X-MICROSOFT-CDO-ALLDAYEVENT:FALSE
SUMMARY:State of Washington Pollution Liability Insurance Agency Workshop
DESCRIPTION:PLIA will host open house-style workshops around the state to educate the public about our Petroleum Technical Assistance Program (PTAP) and our Loan and Grant Program. I encourage you to attend one of the workshops to learn about opportunities these programs present for owner/operators of underground storage tank systems (UST). I have attached the list of workshop locations. \n\n \n\nPetroleum Technical Assistance Program\n\nBeginning January 2018\, the PTAP will offer customers with qualifying petroleum USTs technical assistance and written opinions on whether a cleanup has met the state's requirements. The types of opinions provided include:\n\n \n\n	No Further Action (NFA) on the Site/Property.\n	Further Action (FA) on the Site/Property.\n	Partial Sufficiency (PS) of the cleanup.\n\nApplications for the PTAP will be accepted after January 2\, 2018.\n\nLoan and Grant Program\n\nThe Loan and Grant program allows PLIA to provide low interest loans and/or grants to assist owners and operators of petroleum USTs to: \n\n \n\n	Upgrade\, replace\, or remove petroleum underground storage tank systems to prevent future releases\, or permanently close a petroleum UST system.\n\n \n\n\n	Remediate a release or threatened release from a petroleum UST system\, including investigation and cleanup.\n\n \n\n\n	Upgrade\, replace\, install new infrastructure or retrofit existing infrastructure at an UST facility for dispensing renewable or alternative energy for motor vehicles\, including electric vehicle charging stations.   \n\n \n\nYou can find more information about our programs at www.plia.wa.gov. For program updates\, please follow us on Twitter @PLIAWA. Please pass along this email to anyone you think may benefit from our programs. \n\n \n\nIf you have any questions\, regarding the PTAP please contact Kristin Evered at kristin.evered@plia.wa.gov. For questions regarding the Loan and Grant Program please contact at kayley.moen@plia.wa.gov.
X-ALT-DESC;FMTTYPE=text/html:<span style="font-family:times new roman\,serif\;"><span style="font-size:11.5pt\;">PLIA will host open house-style workshops around the state to educate the public about our Petroleum Technical Assistance Program (PTAP) and our Loan and Grant Program. I encourage you to attend one of the workshops to learn about opportunities these programs present for owner/operators of underground storage tank systems (UST). I have attached the list of workshop locations. </span></span><br />\n&nbsp\;<br />\n<strong><span style="font-family:times new roman\,serif\;"><span style="font-size:11.5pt\;">Petroleum Technical Assistance Program</span></span></strong><br />\n<span style="font-family:times new roman\,serif\;"><span style="font-size:11.5pt\;">Beginning January 2018\,&nbsp\;the PTAP will offer customers with qualifying petroleum USTs technical assistance and written opinions on whether a cleanup has met the state&rsquo\;s requirements. The types of opinions provided include:</span></span><br />\n&nbsp\;\n<ul>\n	<li style="background-image:initial\;background-position:initial\;background-size:initial\;background-repeat:initial\;background-attachment:initial\;background-origin:initial\;background-clip:initial\;"><span style="font-family:times new roman\,serif\;"><span style="font-size:11.5pt\;">No Further Action (NFA) on the Site/Property.</span></span></li>\n	<li style="background-image:initial\;background-position:initial\;background-size:initial\;background-repeat:initial\;background-attachment:initial\;background-origin:initial\;background-clip:initial\;"><span style="font-family:times new roman\,serif\;"><span style="font-size:11.5pt\;">Further Action (FA) on the Site/Property.</span></span></li>\n	<li style="background-image:initial\;background-position:initial\;background-size:initial\;background-repeat:initial\;background-attachment:initial\;background-origin:initial\;background-clip:initial\;"><span style="font-family:times new roman\,serif\;"><span style="font-size:11.5pt\;">Partial Sufficiency (PS) of the cleanup.</span></span></li>\n</ul>\n<span style="font-family:times new roman\,serif\;"><span style="font-size:11.5pt\;">Applications for the PTAP will be accepted after January 2\, 2018.</span></span><br />\n<strong><span style="font-family:times new roman\,serif\;"><span style="font-size:11.5pt\;">Loan and Grant Program</span></span></strong><br />\n<span style="font-family:times new roman\,serif\;"><span style="font-size:11.5pt\;">The Loan and Grant </span></span><a href="http://app.leg.wa.gov/RCW/default.aspx?cite=70.340&amp\;full=true"><span style="text-decoration-line:none\;"><span style="color:windowtext\;"><span style="font-family:times new roman\,serif\;"><span style="font-size:11.5pt\;">program</span></span></span></span></a><span style="font-family:times new roman\,serif\;"><span style="font-size:11.5pt\;"> allows PLIA to provide low interest loans and/or grants to assist owners and operators of petroleum USTs to: </span></span><br />\n&nbsp\;\n<ol>\n	<li style="margin-left:.25in\;"><span style="font-family:times new roman\,serif\;"><span style="font-size:11.5pt\;">Upgrade\, replace\, or remove petroleum underground storage tank systems to prevent future releases\,&nbsp\;or permanently close a petroleum UST system.</span></span></li>\n</ol>\n&nbsp\;\n\n<ol>\n	<li style="margin-left:.25in\;" value="2"><span style="font-family:times new roman\,serif\;"><span style="font-size:11.5pt\;">Remediate a release or threatened release from a petroleum UST system\, including investigation and cleanup.</span></span></li>\n</ol>\n&nbsp\;\n\n<ol>\n	<li style="margin-left:.25in\;" value="3"><span style="font-family:times new roman\,serif\;"><span style="font-size:11.5pt\;">Upgrade\, replace\, install new infrastructure or retrofit existing infrastructure at an UST facility for dispensing renewable or alternative energy for motor vehicles\, including electric vehicle charging stations.&nbsp\; &nbsp\;</span></span></li>\n</ol>\n&nbsp\;<br />\n<span style="font-family:times new roman\,serif\;"><span style="font-size:11.5pt\;">You can find more information about our programs at <a href="www.plia.wa.gov">www.plia.wa.gov</a>. For program updates\, please follow us on Twitter @PLIAWA. Please pass along this email to anyone you think may benefit from our programs. </span></span><br />\n&nbsp\;<br />\n<span style="font-family:times new roman\,serif\;"><span style="font-size:11.5pt\;">If you have any questions\, regarding the PTAP please contact Kristin Evered at <a href="mailto:kristin.evered@plia.wa.gov">kristin.evered@plia.wa.gov</a><span style="color:windowtext\;">.</span></span> For questions regarding the Loan and Grant Program please contact at <a href="mailto:kayley.moen@plia.wa.gov">kayley.moen@plia.wa.gov</a>.</span>
LOCATION:
UID:e.2591.1003
SEQUENCE:3
DTSTAMP:20260425T133930Z
URL:http://seattlesouthsidechamber.com/events/details/state-of-washington-pollution-liability-insurance-agency-workshop-1003
END:VEVENT

END:VCALENDAR
