BEGIN:VCALENDAR
VERSION:2.0
PRODID:-//ChamberMaster//Event Calendar 2.0//EN
METHOD:PUBLISH
X-PUBLISHED-TTL:P3D
REFRESH-INTERVAL:P3D
CALSCALE:GREGORIAN
BEGIN:VEVENT
DTSTART:20180810T183000Z
DTEND:20180810T200000Z
X-MICROSOFT-CDO-ALLDAYEVENT:FALSE
SUMMARY:State of Our Schools Luncheon
DESCRIPTION:Join us at our innagural State of Our Schools Luncheon on August 10th at Embassy Suites. \n\n\n\nWe look forward to this opportunity to bring city and regional business leaders together with the school districts we serve (Tukwila and Highline) to interact\, strengthen ties\, and forge new relationships.\n\n\n\n\n\nPlease indicate whether or not you would like the vegetarian option on your registration.\n\n\n\nMenu\n\nSalad: Basil's Salad\n\ncucumber\, tomato\, feta cheese- each table set with lemon\n\nvinaigrette & ranch\n\n\n\nMeat Entree: Pacific Salmon\n\nwhite bean and kale ragout with seasonal vegetable\n\n\n\nVegetarian Entree: Mediterranean Angel Hair\n\nartichoke hearts\, sundried tomato\, kalamata olive\, zucchini\, angel\n\nhair pasta\, fire-roasted pepper\, basil white wine sauce\n\n\n\nDessert: Strawberry Shortcake
X-ALT-DESC;FMTTYPE=text/html:<span style="font-size:16px\;"><span style="font-family:arial\;">Join us at our innagural State of Our Schools Luncheon on August 10th at Embassy Suites.&nbsp\;<br />\n<br />\n<span style="color:#212121\;">We look forward to this opportunity to bring city and regional business leaders together with the school districts we serve (Tukwila and Highline) to interact\, strengthen ties\, and forge new relationships.</span><br />\n<br />\n<br />\n<strong>Please indicate whether or not you would like the vegetarian option on your registration.</strong></span></span><br />\n<br />\n<span style="font-size:14px\;"><span style="font-family:arial\;"><strong><span style="font-size:16px\;">Menu</span><br />\nSalad: </strong>Basil&rsquo\;s Salad<br />\ncucumber\, tomato\, feta cheese- each table set with lemon<br />\nvinaigrette &amp\; ranch<br />\n<br />\n<strong>Meat Entree:</strong> Pacific Salmon<br />\nwhite bean and kale ragout with seasonal vegetable<br />\n<br />\n<strong>Vegetarian Entree:</strong> Mediterranean Angel Hair<br />\nartichoke hearts\, sundried tomato\, kalamata olive\, zucchini\, angel<br />\nhair pasta\, fire-roasted pepper\, basil white wine sauce<br />\n<br />\n<strong>Dessert: </strong>Strawberry Shortcake</span></span><br />\n&nbsp\;
LOCATION:Embassy Suites Seattle-Tacoma Int'l Airport 15920 W Valley Hwy Tukwila\, WA 98188
UID:e.2591.1069
SEQUENCE:3
DTSTAMP:20260424T185301Z
URL:http://seattlesouthsidechamber.com/events/details/state-of-our-schools-luncheon-1069
END:VEVENT

END:VCALENDAR
