BEGIN:VCALENDAR
VERSION:2.0
PRODID:-//ChamberMaster//Event Calendar 2.0//EN
METHOD:PUBLISH
X-PUBLISHED-TTL:P3D
REFRESH-INTERVAL:P3D
CALSCALE:GREGORIAN
BEGIN:VEVENT
DTSTART:20190426T183000Z
DTEND:20190426T200000Z
X-MICROSOFT-CDO-ALLDAYEVENT:FALSE
SUMMARY:State of our Schools Luncheon
DESCRIPTION:Join us at our 2nd Annual State of our Schools Luncheon on April 26th.\n\n\n\nWe are thrilled to be able to offer the opportunity to connect directly with our schools and their leadership.\n\n\n\n \n\n\n\nThis year we will be hearing from the Tukwila School District Interim Superintendent\, Dr. Flip Herndon\, the Highline School District Superintendent\, Dr. Susan Enfield\, and the President of Highline College\, Dr. John Mosby.\n\n\n\n \n\n\n\nThe Success Foundation will also be giving an update on the Workforce Innovation Network\, and the Explorer Post it is launching this summer.\n\n\n\nPlease indicate whether or not you would like the vegetarian option on your registration.
X-ALT-DESC;FMTTYPE=text/html:<div data-block="true" data-editor="5u0c1" data-offset-key="4eelb-0-0">\n<div data-offset-key="4eelb-0-0">Join us at our 2nd Annual State of our Schools Luncheon on April 26th.</div>\n</div>\n\n<div data-block="true" data-editor="5u0c1" data-offset-key="65l0h-0-0">\n<div data-offset-key="65l0h-0-0">We are thrilled to be able to offer the opportunity to connect directly with our schools and their leadership.</div>\n</div>\n\n<div data-block="true" data-editor="5u0c1" data-offset-key="divkt-0-0">\n<div data-offset-key="divkt-0-0">&nbsp\;</div>\n</div>\n\n<div data-block="true" data-editor="5u0c1" data-offset-key="a6jfg-0-0">\n<div data-offset-key="a6jfg-0-0">This year we will be hearing from the Tukwila School District Interim Superintendent\, Dr. Flip Herndon\, the Highline School District Superintendent\, Dr. Susan Enfield\, and the President of Highline College\, Dr. John Mosby.</div>\n</div>\n\n<div data-block="true" data-editor="5u0c1" data-offset-key="1q5i4-0-0">\n<div data-offset-key="1q5i4-0-0">&nbsp\;</div>\n</div>\n\n<div data-block="true" data-editor="5u0c1" data-offset-key="1f0r3-0-0">\n<div data-offset-key="1f0r3-0-0">The Success Foundation will also be giving an update on the Workforce Innovation Network\, and the Explorer Post it is launching this summer.</div>\n</div>\n<br />\n<strong>Please indicate whether or not you would like the vegetarian option on your registration.</strong>
LOCATION:Hotel Interurban 226 Andover Park E Tukwila\, WA 98188
UID:e.2591.2768
SEQUENCE:3
DTSTAMP:20260424T080521Z
URL:http://seattlesouthsidechamber.com/events/details/state-of-our-schools-luncheon-04-26-2019-2768
END:VEVENT

END:VCALENDAR
