BEGIN:VCALENDAR
VERSION:2.0
PRODID:-//ChamberMaster//Event Calendar 2.0//EN
METHOD:PUBLISH
X-PUBLISHED-TTL:P3D
REFRESH-INTERVAL:P3D
CALSCALE:GREGORIAN
BEGIN:VEVENT
DTSTART:20190510T183000Z
DTEND:20190510T200000Z
X-MICROSOFT-CDO-ALLDAYEVENT:FALSE
SUMMARY:State of our Cities Luncheon
DESCRIPTION:The Seattle Southside Chamber of Commerce is pleased to present its Annual State of our Cities Luncheon (formally known as the Mayors' Luncheon)\, on Friday\, May 10th\, 2019.\n\n\n\nThis luncheon is presented in partnership with the five cities within the Chamber's service area of Southwest King County and will feature an update from each of the cities as well as a panel discussion and Q&A.\n\n\n\n\n\nPlease indicate whether or not you would like the vegetarian option on your registration.
X-ALT-DESC;FMTTYPE=text/html:<span style="font-size:14px\;"><span style="font-family:arial\;"><span style="color:#212121\;">The Seattle Southside Chamber of Commerce is pleased to present its Annual State of our Cities Luncheon (formally known as the Mayors&#39\; Luncheon)\, on Friday\, May 10th\, 2019.<br />\n<br />\nThis luncheon is presented in partnership with the five cities within the Chamber&rsquo\;s service area of Southwest King County and will feature an update from each of the cities as well as a panel discussion and Q&amp\;A.</span></span></span><br />\n<br />\n<br />\n<span style="font-size: 16px\;"><span style="font-family: arial\;"><strong>Please indicate whether or not you would like the vegetarian option on your registration.</strong></span></span>
LOCATION:Four Points by Sheraton - Seattle Airport 22406 Pacific Highway South Des Moines\, WA 98198
UID:e.2591.2769
SEQUENCE:3
DTSTAMP:20260424T063256Z
URL:http://seattlesouthsidechamber.com/events/details/state-of-our-cities-luncheon-2769
END:VEVENT

END:VCALENDAR
