BEGIN:VCALENDAR
VERSION:2.0
PRODID:-//ChamberMaster//Event Calendar 2.0//EN
METHOD:PUBLISH
X-PUBLISHED-TTL:P3D
REFRESH-INTERVAL:P3D
CALSCALE:GREGORIAN
BEGIN:VEVENT
DTSTART:20190125T190000Z
DTEND:20190125T200000Z
X-MICROSOFT-CDO-ALLDAYEVENT:FALSE
SUMMARY:Spotlight Sea-Tac Airport Advertising Program Information Session
DESCRIPTION:The Port is accepting applications for the Spotlight Sea-Tac Airport Advertising Program for Q2 (April-June) and Q3 (July-September) of 2019. Continuing to build on the success of the Spotlight Program\, an advertising opportunity at Sea-Tac Airport for Washington state destination marketing organizations (DMOs)\, cities\, counties\, port authorities\, chambers of commerce and non-profit entities is available now.
X-ALT-DESC;FMTTYPE=text/html:The Port is accepting applications for the Spotlight Sea-Tac Airport Advertising Program for Q2 (April-June) and Q3 (July-September) of 2019. Continuing to build on the success of the Spotlight Program\, an advertising opportunity at Sea-Tac Airport for Washington state destination marketing organizations (DMOs)\, cities\, counties\, port authorities\, chambers of commerce and non-profit entities is available now.
LOCATION:Port of Seattle 2711 Alaskan Way Room 2D East
UID:e.2591.2761
SEQUENCE:3
DTSTAMP:20260424T140720Z
URL:http://seattlesouthsidechamber.com/events/details/spotlight-sea-tac-airport-advertising-program-information-session-2761
END:VEVENT

END:VCALENDAR
