BEGIN:VCALENDAR
VERSION:2.0
PRODID:-//ChamberMaster//Event Calendar 2.0//EN
METHOD:PUBLISH
X-PUBLISHED-TTL:P3D
REFRESH-INTERVAL:P3D
CALSCALE:GREGORIAN
BEGIN:VEVENT
DTSTART:20180609T010000Z
DTEND:20180609T040000Z
X-MICROSOFT-CDO-ALLDAYEVENT:FALSE
SUMMARY:Southcenter Rotary 50th Anniversary and Scholarship Fundraiser
DESCRIPTION:Join us for out 50th anniversary celebration\, and help support our mission of providing scholarships to local high school students.
X-ALT-DESC;FMTTYPE=text/html:Join us for out 50th anniversary celebration\, and help support our mission of providing scholarships to local high school students.
LOCATION:Sullivan Community Center 14350 Tukwila International Blvd Tukwila\, WA 98168
UID:e.2591.2120
SEQUENCE:3
DTSTAMP:20260425T033132Z
URL:http://seattlesouthsidechamber.com/events/details/southcenter-rotary-50th-anniversary-and-scholarship-fundraiser-2120
END:VEVENT

END:VCALENDAR
