BEGIN:VCALENDAR
VERSION:2.0
PRODID:-//ChamberMaster//Event Calendar 2.0//EN
METHOD:PUBLISH
X-PUBLISHED-TTL:P3D
REFRESH-INTERVAL:P3D
CALSCALE:GREGORIAN
BEGIN:VEVENT
DTSTART:20171212T150000Z
DTEND:20171212T170000Z
X-MICROSOFT-CDO-ALLDAYEVENT:FALSE
SUMMARY:South Sound Chambers of Commerce Legislative Coalition Breakfast
DESCRIPTION:Join the Seattle Southside Chamber of Commerce at the South Sound Chambers of Commerce Legislative Coalition Breakfast. We\, in partnership with the entire coalition\, welcome Governor Jay Inslee as our keynote speaker. We will also be presenting our 2018 Legislative Priorities to the business community as well as our local legislators.
X-ALT-DESC;FMTTYPE=text/html:<span style="font-size:14px\;"><span style="font-family:tahoma\;"><span style="background-image:initial\;background-position:initial\;background-size:initial\;background-repeat:initial\;background-attachment:initial\;background-origin:initial\;background-clip:initial\;">Join the Seattle Southside Chamber of Commerce at the South Sound Chambers of Commerce Legislative Coalition Breakfast. We\, in partnership with the entire coalition\, welcome Governor Jay </span><span style="background-image:initial\;background-position:initial\;background-size:initial\;background-repeat:initial\;background-attachment:initial\;background-origin:initial\;background-clip:initial\;">I</span>nslee&nbsp\;as our keynote speaker. We will also be presenting our 2018 Legislative Priorities to the business community as well as our local legislators.</span></span><br />\n&nbsp\;
LOCATION:Emerald Downs 2300 Ron Crockett Drive Auburn\, WA 98001
UID:e.2591.999
SEQUENCE:3
DTSTAMP:20260425T102808Z
URL:http://seattlesouthsidechamber.com/events/details/south-sound-chambers-of-commerce-legislative-coalition-breakfast-999
END:VEVENT

END:VCALENDAR
