BEGIN:VCALENDAR
VERSION:2.0
PRODID:-//ChamberMaster//Event Calendar 2.0//EN
METHOD:PUBLISH
X-PUBLISHED-TTL:P3D
REFRESH-INTERVAL:P3D
CALSCALE:GREGORIAN
BEGIN:VEVENT
DTSTART:20170106T150000Z
DTEND:20170106T170000Z
X-MICROSOFT-CDO-ALLDAYEVENT:FALSE
SUMMARY:South Sound Chambers of Commerce Legislative Coalition Breakfast
DESCRIPTION:The South Sound Chambers of Commerce Legislative Coalition Breakfast is the biggest business breakfast in the Area. Preview the Coalition's 2017 Legislative Priorities.\n\n\n\nThe Coalition represents approximately 3\,500 business that employ more than 150\,000 workers in the South King\, North and East Pierce County region.Members of the South Sound Chambers of Commerce Legislative Coalition includes:Auburn Area\, Covington\,Fife Milton Edgewood\, Kent\,\n\nPuyallup/Sumner\, Renton and Seattle Southside Chambers of Commerce\n\n\n\nSponsored Table of Twelve $1\,000\n\nSponsored Table of Eight $750\n\nIndividual Tickets $25\n\n\n\nRegister online here\n\n\n\n7:00   7:30 a.m. Registration and Breakfast\n\n7:30   8:00 a.m. Introductions\n\na) Elected Officials Recognition\n\nb) Sponsor Recognition\n\n8:00   8:55 a.m. Legislative Priorities Update\n\n8:55   9:00 a.m. Wrap-up
X-ALT-DESC;FMTTYPE=text/html:The South Sound Chambers of Commerce&nbsp\;Legislative Coalition Breakfast is the biggest business breakfast in the Area. Preview the Coalition&#39\;s 2017 Legislative Priorities.<br />\n<br />\nThe Coalition represents approximately 3\,500 business that employ more than 150\,000 workers in the South King\, North and East Pierce County region.Members of the South Sound Chambers of Commerce Legislative Coalition includes:Auburn Area\, Covington\,Fife Milton Edgewood\, Kent\,<br />\nPuyallup/Sumner\, Renton and Seattle Southside Chambers of Commerce<br />\n<br />\nSponsored Table of Twelve $1\,000<br />\nSponsored Table of Eight $750<br />\nIndividual Tickets $25<br />\n<br />\n<a href="https://squareup.com/store/south-sound-chambers-of-commerce-legislative-coalition/">Register online here</a><br />\n<br />\n7:00 &ndash\; 7:30 a.m. Registration and Breakfast<br />\n7:30 &ndash\; 8:00 a.m. Introductions<br />\na) Elected Officials Recognition<br />\nb) Sponsor Recognition<br />\n8:00 &ndash\; 8:55 a.m. Legislative Priorities Update<br />\n8:55 &ndash\; 9:00 a.m. Wrap-up
LOCATION:Emerald Downs 2300 Ron Crockett Drive Auburn\, WA 98001
UID:e.2591.550
SEQUENCE:3
DTSTAMP:20260426T030650Z
URL:http://seattlesouthsidechamber.com/events/details/south-sound-chambers-of-commerce-legislative-coalition-breakfast-550
END:VEVENT

END:VCALENDAR
