BEGIN:VCALENDAR
VERSION:2.0
PRODID:-//ChamberMaster//Event Calendar 2.0//EN
METHOD:PUBLISH
X-PUBLISHED-TTL:P3D
REFRESH-INTERVAL:P3D
CALSCALE:GREGORIAN
BEGIN:VEVENT
DTSTART:20181211T150000Z
DTEND:20181211T170000Z
X-MICROSOFT-CDO-ALLDAYEVENT:FALSE
SUMMARY:South Sound Chambers of Commerce Coalition Pre-Session Legislative Breakfast
DESCRIPTION:Preview the 2019 legislative priorities of your regional Chambers at the largest business networking breakfast in the South Sound. The mission of the South Sound Chambers of Commerce Legislative Coalition is to bring together Chambers of Commerce representing the business community in South King County and North and East Pierce County (The South Sound) to advocate for local\, regional and Washington State business-related legislation and public policy that is in the best interests of the business community. The Coalition enables our members to speak with a unified voice and it develops annual\, unified legislative positions and associated legislative events and activities.
X-ALT-DESC;FMTTYPE=text/html:Preview the 2019 legislative priorities of your regional Chambers at the largest business networking breakfast in the South Sound.&nbsp\;The mission of the South Sound Chambers of Commerce Legislative Coalition is to bring together Chambers of Commerce representing the business community in South King County and North and East Pierce County (The South Sound) to advocate for local\, regional and Washington State business-related legislation and public policy that is in the best interests of the business community. The Coalition enables our members to speak with a unified voice and it develops annual\, unified legislative positions and associated legislative events and activities.
LOCATION:Emerald Downs 2300 Ron Crockett Dr\, Auburn\, WA 98001
UID:e.2591.2139
SEQUENCE:3
DTSTAMP:20260424T154007Z
URL:http://seattlesouthsidechamber.com/events/details/south-sound-chambers-of-commerce-coalition-pre-session-legislative-breakfast-2139
END:VEVENT

END:VCALENDAR
