BEGIN:VCALENDAR
VERSION:2.0
PRODID:-//ChamberMaster//Event Calendar 2.0//EN
METHOD:PUBLISH
X-PUBLISHED-TTL:P3D
REFRESH-INTERVAL:P3D
CALSCALE:GREGORIAN
BEGIN:VEVENT
DTSTART:20171213T151500Z
DTEND:20171213T173000Z
X-MICROSOFT-CDO-ALLDAYEVENT:FALSE
SUMMARY:Soundside Alliance Outlook Breakfast
DESCRIPTION:Don't miss the Soundside Alliance's 4th Annual Outlook Breakfast to learn more about the trends impacting this fast-growing community. Join business and community leaders from throughout the region to gain insight into new developments and projects\; and hear from regional leaders regarding the outlook for the Soundside market.\n\nThe Soundside situated in the heart of the Puget Sound Region's major commerce and transportation corridor\, and located within minutes of the Seattle-Tacoma International Airport\, is an emerging location for business and development. Encompassing the cities of Burien\, Des Moines\, Normandy Park\, SeaTac and Tukwila\, the Soundside is undergoing exciting change making it a premier location for business.\n\n\n\nSpace is Limited   Register Today at https://soundside-outlook.eventbrite.com
X-ALT-DESC;FMTTYPE=text/html:<p style="border: 0px\; font-variant-numeric: inherit\; font-stretch: inherit\; font-size: 14px\; line-height: inherit\; font-family: Helvetica\, Verdana\, Arial\, sans-serif\; margin: 1.6em 0px\; padding: 0px\; vertical-align: baseline\; word-wrap: break-word\; color: rgb(85\, 85\, 85)\;">Don&rsquo\;t miss the Soundside Alliance&rsquo\;s 4th Annual Outlook Breakfast to learn more about the trends impacting this fast-growing community. Join business and community leaders from throughout the region to gain insight into new developments and projects\; and hear from regional leaders regarding the outlook for the Soundside market.</p>\n\n<p style="border: 0px\; font-variant-numeric: inherit\; font-stretch: inherit\; font-size: 14px\; line-height: inherit\; font-family: Helvetica\, Verdana\, Arial\, sans-serif\; margin: 1.6em 0px\; padding: 0px\; vertical-align: baseline\; word-wrap: break-word\; color: rgb(85\, 85\, 85)\;">The Soundside situated in the heart of the Puget Sound Region&rsquo\;s major commerce and transportation corridor\, and located within minutes of the Seattle-Tacoma International Airport\, is an emerging location for business and development. Encompassing the cities of Burien\, Des Moines\, Normandy Park\, SeaTac and Tukwila\, the Soundside is undergoing exciting change making it a premier location for business.<br />\n<br />\n<span style="border: 0px\; font-variant-numeric: inherit\; font-weight: 700\; font-stretch: inherit\; font-size: 14px\; line-height: inherit\; font-family: Helvetica\, Verdana\, Arial\, sans-serif\; margin: 0px\; padding: 0px\; vertical-align: baseline\; color: rgb(85\, 85\, 85)\; text-align: center\;">Space is Limited &mdash\; Register Today at&nbsp\;</span><a href="https://soundside-outlook.eventbrite.com/" rel="noopener noreferrer" style="border: 0px\; font-variant-numeric: inherit\; font-stretch: inherit\; font-size: 14px\; line-height: inherit\; font-family: Helvetica\, Verdana\, Arial\, sans-serif\; margin: 0px\; padding: 0px\; vertical-align: baseline\; color: rgb(0\, 102\, 204)\; text-decoration-line: none\; text-align: center\;" target="_blank"><span style="border: 0px\; font-style: inherit\; font-variant: inherit\; font-weight: 700\; font-stretch: inherit\; line-height: inherit\; font-family: inherit\; margin: 0px\; padding: 0px\; vertical-align: baseline\;">https://soundside-outlook.eventbrite.com</span></a></p>\n
LOCATION:
UID:e.2591.1020
SEQUENCE:3
DTSTAMP:20260425T102753Z
URL:http://seattlesouthsidechamber.com/events/details/soundside-alliance-outlook-breakfast-1020
END:VEVENT

END:VCALENDAR
