BEGIN:VCALENDAR
VERSION:2.0
PRODID:-//ChamberMaster//Event Calendar 2.0//EN
METHOD:PUBLISH
X-PUBLISHED-TTL:P3D
REFRESH-INTERVAL:P3D
CALSCALE:GREGORIAN
BEGIN:VEVENT
DTSTART;VALUE=DATE:20171114
DTEND;VALUE=DATE:20171115
TRANSP:TRANSPARENT
X-MICROSOFT-CDO-ALLDAYEVENT:TRUE
SUMMARY:Sound Mental Health - Imagine Fundraiser
DESCRIPTION:Sound Mental Health Invites you to\n\n\n\nImagine the day when seeking behavioral health treatment without judgement or stigma is a reality.\n\n \n\nImagine when everyone\, despite their ability to afford quality care\, can access quality mental health or addiction treatment in the community.\n\nMost of all\, Imagine the day when a single parent with three kids\, the pre-teen struggling in school\, or a survivor of domestic violence actually have a chance to experience hope and have the opportunity to find that recovery from substance use and mental illness is within reach. \n\n \n\nImagine that you can be the catalyst of this change. Sound Mental Health hopes that you will partner with us November 14 during our IMAGINE luncheon and join our effort to save lives in our community.\n\nSMH is the most comprehensive provider of quality behavioral health\, housing and substance use treatment services in King County. We reached more than 22\,000 individuals last year\, but can support more with your help.\n\nYour support enables SMH to bridge the gaps in funding that drive our innovative programs that give a struggling student a new opportunity to excel in school\, help a mother in crisis get stable so that she can save her family\, or get a developmentally disabled man the job he always needed to be independent.\n\n \n\nSMH does not give up on anyone in need in our community. And we ask you to be a partner with us in this ambitious vision.\n\n \n\nJoin us on Tuesday\, November 14t at the Hyatt Olive 8\, TO IMAGINE. \n\n\n\nRSVP by Tuesday\, October 31st  - www.smh.org/imagine\n\n \n\nFor more information or to be a table captain\, please contact the Sound Mental Health Development office at 206.302.2260 or susanb@smh.org
X-ALT-DESC;FMTTYPE=text/html:<strong>Sound Mental Health Invites you to<br />\n<br />\nImagine</strong> the day when seeking behavioral health treatment without judgement or stigma is a reality.<br />\n&nbsp\;<br />\n<strong>Imagine</strong> when everyone\, despite their ability to afford quality care\, can access quality mental health or addiction treatment in the community.<br />\nMost of all<strong>\, Imagine</strong> the day when a single parent with three kids\, the pre-teen struggling in school\, or a survivor of domestic violence actually have a chance to experience hope and have the opportunity to find that recovery from substance use and mental illness is within reach.&nbsp\;<br />\n&nbsp\;<br />\n<strong>Imagine</strong> that you can be the catalyst of this change. Sound Mental Health hopes that you will partner with us November 14 during our IMAGINE luncheon and join our effort to save lives in our community.<br />\nSMH is the most comprehensive provider of quality behavioral health\, housing and substance use treatment services in King County. We reached more than 22\,000 individuals last year\, but can support more with your help.<br />\nYour support enables SMH to bridge the gaps in funding that drive our innovative programs that give a struggling student a new opportunity to excel in school\, help a mother in crisis get stable so that she can save her family\, or get a developmentally disabled man the job he always needed to be independent.<br />\n&nbsp\;<br />\nSMH does not give up on anyone in need in our community. And we ask you to be a partner with us in this ambitious vision.<br />\n&nbsp\;<br />\nJoin us on <strong>Tuesday\, November 14<sup>t</sup> at the Hyatt Olive 8\, TO IMAGINE.&nbsp\;</strong><br />\n<br />\nRSVP by Tuesday\, October 31<sup>st</sup>&nbsp\; - <a href="http://www.smh.org/imagine">www.smh.org/imagine</a><br />\n&nbsp\;<br />\nFor more information or to be a table captain\, please contact the Sound Mental Health Development office at 206.302.2260 or <a href="mailto:susanb@smh.org">susanb@smh.org</a><br />\n&nbsp\;
LOCATION:Hyatt Olive 8
UID:e.2591.978
SEQUENCE:3
DTSTAMP:20260425T134210Z
URL:http://seattlesouthsidechamber.com/events/details/sound-mental-health-imagine-fundraiser-978
END:VEVENT

END:VCALENDAR
